Workbook
Name 一括: OFFSET(データ!$O$5:$AC$5,0,0,1,COUNT(データ!$O$5:$AC$5))
Name 既存: OFFSET(データ!$O$4:$AC$4,0,0,1,COUNT(データ!$O$4:$AC$4))
Name 提案: OFFSET(データ!$O$6:$AC$6,0,0,1,COUNT(データ!$O$6:$AC$6))
Name 年数: OFFSET(データ!$O$3:$AC$3,0,0,1,COUNT(データ!$O$3:$AC$3))

Sheet 入力シート
B1: ①～⑤ 着色部分を入力してください
B2: ①お客様名称入力 | E2: ②作成年月
B3: 〇〇〇〇〇〇〇〇〇〇〇〇株式会社 | E3: 2021 | F3: 年 | G3: 1 | H3: 月
A5: ファイナンス提案入力部分 | I5: ↓プル選択
B6: ③物件金額入力 | E6: ④ファイナンス提案内容入力 | H6: ⑤省エネ計算入力 | J6: 台数
B7: 器具総額（円） | C7: =データ!Z14 -> 11330000 | E7: 契約形態・年数 | F7: リース 9年 | G7: リスト選択 | H7: 既設照明器具1 | I7: FLR110W×2灯 | J7: 100 | K7: リスト選択 | L7: 数値入力
B8: 工事費（円） | C8: 2000000 | D8: 数値入力 | E8: 料率 | F8: =データ!L5 -> 0.013 | H8: 既設照明器具２ | I8: FHF32W×2灯 | J8: 20 | K8: リスト選択 | L8: 数値入力
B9: 掛率 | C9: 0.45 | D9: 数値入力 | E9: 月額 | F9: =データ!L8 -> 92300 | H9: 既設照明器具３ | I9: FLR40W×1灯 | J9: 300 | K9: リスト選択 | L9: 数値入力
B10: 実総額 | C10: =(C7*C9)+C8 -> 7098500 | H10: 年間点灯時間（h） | I10: 3000
B11: 投資回収年数 | C11: =表示調整!F13 -> 3.8589081 | E11: 総額 | F11: =データ!M8 -> 9968400 | H11: 電力料単価（kWh/円） | I11: 27
H14: 代替LED器具１ | I14: =データ!U11 -> MY-V910331N 2AHTN | J14: =J7 -> 100
H15: 代替LED器具２ | I15: =データ!U12 -> MY-V450331N AHTN | J15: =J8 -> 20
H16: 代替LED器具３ | I16: =データ!U13 -> MY-V420331N AHTN | J16: =J9 -> 300
H17: 既設消費電力計(kWh) | I17: =データ!O14 -> 98100 | J17: =I11*I17 -> 2648700
H18: 代替機種消費電力計(kWh) | I18: =データ!X14 -> 29970 | J18: =I11*I18 -> 809190
H19: 削減電力（年間） | I19: =I17-I18 -> 68130 | J19: =I11*I19 -> 1839510
H20: 削減電力（月間） | I20: =I19/12 -> 5677.5 | J20: =J19/12 -> 153292.5
H21: ﾗﾝﾌﾟﾒﾝﾃｺｽﾄ削減額（年間） | I21: =データ!T16 -> 152500
H22: ﾗﾝﾌﾟﾒﾝﾃｺｽﾄ削減額（月間） | I22: =I21/12 -> 12708.333

Sheet 印刷用_片面チラシ向け

Sheet 印刷用_両面チラシ向け

Sheet 印刷用_両面チラシ向け裏面

Sheet データ
D1: 料率テーブル
D2: 契約年数 | M2: ｸﾞﾗﾌﾃﾞｰﾀ
D4: レンタル 4年 | E4: 0.027 | F4: 4 | G4: =F4*12 -> 48 | H4: =$L$8*G4 -> 4430400
B5: 削減額 | D5: レンタル 5年 | E5: 0.023 | F5: 5 | G5: =F5*12 -> 60 | H5: =$L$8*G5 -> 5538000 | L5: =VLOOKUP(入力シート!F7,データ!$D$4:$E$8,2,0) -> 0.013
B6: =入力シート!I19*入力シート!I11 -> 1839510 | D6: レンタル 6年 | E6: 0.02 | F6: 6 | G6: =F6*12 -> 72 | H6: =$L$8*G6 -> 6645600
D7: レンタル 7年 | E7: 0.018 | F7: 7 | G7: =F7*12 -> 84 | H7: =$L$8*G7 -> 7753200 | L7: 月額 | M7: 総額
D8: リース 9年 | E8: 0.013 | F8: 9 | G8: =F8*12 -> 108 | H8: =$L$8*G8 -> 9968400 | L8: =ROUNDUP(入力シート!C10*データ!L5,-2) -> 92300 | M8: =VLOOKUP(入力シート!F7,データ!$D$4:$G$8,4,0)*L8 -> 9968400
D9: 機種テーブル | K9: 損益試算表
C10: 100V時 | D10: 代替機種 | E10: 100 V時消費電力 | F10: 寿命 | G10: コスト | H10: 定価 | K10: 削減量 | L10: 既設 | M10: 既設 | N10: 既設 | O10: 既設 | P10: 既設電気代 | Q10: ﾗﾝﾌﾟ寿命 | R10: 既設ﾗﾝﾌﾟ | S10: 既設ﾗﾝﾌﾟｺｽﾄ | U10: 更新 | V10: 更新 | W10: 更新 | X10: 更新 | Y10: 更新電気代 | Z10: 更新定価
B11: FL20W×1灯 | C11: 28 | D11: MY-V208231N AHTN | E11: 5.8 | F11: 8000 | G11: 250 | H11: 12200 | K11: 機種① | L11: =IFERROR(入力シート!I7,"") -> FLR110W×2灯 | M11: =IFERROR(VLOOKUP(入力シート!I7,データ!$B$10:$E$27,2,0),"0") -> 187 | N11: =IFERROR(M11*入力シート!J7,"") -> 18700 | O11: =IFERROR(N11*入力シート!I$10/1000,"") -> 56100 | P11: =O11*入力シート!$I$11 -> 1514700 | Q11: =IFERROR(VLOOKUP($L11,$B$11:$H$27,5,0),"") -> 12000 | R11: =IFERROR(入力シート!$I$10/データ!Q11*入力シート!J7,"") -> 25 | S11: =IFERROR(VLOOKUP($L11,$B$11:$H$27,6,0),"") -> 4400 | T11: =IFERROR(S11*R11,"") -> 110000 | U11: =IFERROR(VLOOKUP(入力シート!I7,データ!$B$10:$E$27,3,0),"") -> MY-V910331N 2AHTN | V11: =IFERROR(VLOOKUP(入力シート!I7,データ!$B$10:$E$27,4,0),"") -> 52.6 | W11: =IFERROR(V11*入力シート!J14,"") -> 5260 | X11: =IFERROR(W11*入力シート!I$10/1000,"") -> 15780 | Y11: =IFERROR(X11*入力シート!$I$11,"") -> 426060 | Z11: =IFERROR(VLOOKUP(入力シート!I7,データ!$B$10:$H$27,7,0)*入力シート!J7,"") -> 4790000
B12: FL20W×2灯 | C12: 56 | D12: MY-V215231N AHTN | E12: 11.2 | F12: 8000 | G12: 500 | H12: 16200 | K12: 機種② | L12: =IFERROR(入力シート!I8,"") -> FHF32W×2灯 | M12: =IFERROR(VLOOKUP(入力シート!I8,データ!$B$10:$E$27,2,0),"0") -> 70 | N12: =IFERROR(M12*入力シート!J8,"") -> 1400 | O12: =IFERROR(N12*入力シート!I$10/1000,"") -> 4200 | P12: =O12*入力シート!$I$11 -> 113400 | Q12: =IFERROR(VLOOKUP($L12,$B$11:$H$27,5,0),"") -> 12000 | R12: =IFERROR(入力シート!$I$10/データ!Q12*入力シート!J8,"") -> 5 | S12: =IFERROR(VLOOKUP($L12,$B$11:$H$27,6,0),"") -> 2200 | T12: =IFERROR(S12*R12,"") -> 11000 | U12: =IFERROR(VLOOKUP(入力シート!I8,データ!$B$10:$E$27,3,0),"") -> MY-V450331N AHTN | V12: =IFERROR(VLOOKUP(入力シート!I8,データ!$B$10:$E$27,4,0),"") -> 32.5 | W12: =IFERROR(V12*入力シート!J15,"") -> 650 | X12: =IFERROR(W12*入力シート!I$10/1000,"") -> 1950 | Y12: =IFERROR(X12*入力シート!$I$11,"") -> 52650 | Z12: =IFERROR(VLOOKUP(入力シート!I8,データ!$B$10:$H$27,7,0)*入力シート!J8,"") -> 480000
B13: FHF16W×1灯 | C13: 38 | D13: MY-V215231N AHTN | E13: 11.4 | F13: 8500 | G13: 550 | H13: 16200 | K13: 機種③ | L13: =IFERROR(入力シート!I9,"") -> FLR40W×1灯 | M13: =IFERROR(VLOOKUP(入力シート!I9,データ!$B$10:$E$27,2,0),"0") -> 42 | N13: =IFERROR(M13*入力シート!J9,"") -> 12600 | O13: =IFERROR(N13*入力シート!I$10/1000,"") -> 37800 | P13: =O13*入力シート!$I$11 -> 1020600 | Q13: =IFERROR(VLOOKUP($L13,$B$11:$H$27,5,0),"") -> 12000 | R13: =IFERROR(入力シート!$I$10/データ!Q13*入力シート!J9,"") -> 75 | S13: =IFERROR(VLOOKUP($L13,$B$11:$H$27,6,0),"") -> 420 | T13: =IFERROR(S13*R13,"") -> 31500 | U13: =IFERROR(VLOOKUP(入力シート!I9,データ!$B$10:$E$27,3,0),"") -> MY-V420331N AHTN | V13: =IFERROR(VLOOKUP(入力シート!I9,データ!$B$10:$E$27,4,0),"") -> 13.6 | W13: =IFERROR(V13*入力シート!J16,"") -> 4080 | X13: =IFERROR(W13*入力シート!I$10/1000,"") -> 12240 | Y13: =IFERROR(X13*入力シート!$I$11,"") -> 330480 | Z13: =IFERROR(VLOOKUP(入力シート!I9,データ!$B$10:$H$27,7,0)*入力シート!J9,"") -> 6060000
B14: FHF16W×2灯 | C14: 50 | D14: MY-V230231N AHTN | E14: 21.4 | F14: 8500 | G14: 1100 | H14: 17500 | O14: =SUM(O11:O13) -> 98100 | P14: =SUM(P11:P13) -> 2648700 | X14: =SUM(X11:X13) -> 29970 | Y14: =SUM(Y11:Y13) -> 809190 | Z14: =SUM(Z11:Z13) -> 11330000
B15: FLR40W×1灯 | C15: 42 | D15: MY-V420331N AHTN | E15: 13.6 | F15: 12000 | G15: 420 | H15: 20200
B16: FLR40W×2灯 | C16: 80 | D16: MY-V440331N AHTN | E16: 24.9 | F16: 12000 | G16: 840 | H16: 20500 | K16: コスト削減 | P16: =P14/12 -> 220725 | T16: =SUM(T11:T15) -> 152500 | U16: =P16-Z16 -> 153292.5 | Z16: =Y14/12 -> 67432.5
B17: FHF32W×1灯 | C17: 35 | D17: MY-V425331N AHTN | E17: 16.7 | F17: 12000 | G17: 1100 | H17: 18200
B18: FHF32W×2灯 | C18: 70 | D18: MY-V450331N AHTN | E18: 32.5 | F18: 12000 | G18: 2200 | H18: 24000 | L18: 削減金額グラフ
B19: FLR110W×1灯 | C19: 94 | D19: MY-V950331N AHTN | E19: 30.4 | F19: 12000 | G19: 2200 | H19: 32900 | L19: 年額 | M19: 年額 | P19: 月額 | Q19: 月額 | R19: 削減額
B20: FLR110W×2灯 | C20: 187 | D20: MY-V910331N 2AHTN | E20: 52.6 | F20: 12000 | G20: 4400 | H20: 47900 | L20: 既設 | M20: 更新後 | P20: 既設器具 | Q20: LED器具
B21: FHF86W×1灯 | C21: 87 | D21: MY-V965331N AHTN | E21: 40 | F21: 12000 | G21: 1600 | H21: 36900 | K21: 電気代 | L21: =データ!P14 -> 2648700 | M21: =データ!Y14 -> 809190 | O21: 電気代月額 | P21: =L21/12 -> 220725 | Q21: =M21/12 -> 67432.5 | R21: =P21-Q21 -> 153292.5
B22: FHF86W×2灯 | C22: 172 | D22: MY-V914331N 2AHTN | E22: 70.4 | F22: 12000 | G22: 3200 | H22: 55400 | K22: ランプメンテ | L22: =T16 -> 152500 | M22: 0 | O22: ランプ交換費 | P22: =L22/12 -> 12708.333 | Q22: 0 | R22: =P22-Q22 -> 12708.333
B23: 水銀灯（HF250W） | C23: 270 | D23: EL-GT10113N/W AHTN | E23: 62.2 | F23: 12000 | G23: 2800 | H23: 66000 | O23: 月額料金 | Q23: =データ!L8 -> 92300
B24: 水銀灯（HF400W） | C24: 425 | D24: EL-GT15113N/W AHTN | E24: 84.7 | F24: 12000 | G24: 3600 | H24: 89000 | O24: 月額削減分 | Q24: =SUM(P21+P22+P23)-SUM(Q21+Q22+Q23) -> 73700.833 | R24: =R21+R22-Q23 -> 73700.833
B25: 水銀灯（HF700W） | C25: 745 | D25: EL-GT30112N/W 2AHTN | E25: 163.7 | F25: 12000 | G25: 6300 | H25: 165000
B26: ﾒﾀﾊﾗ250W（MF250) | C26: 260 | D26: EL-GT15113N/W AHTN | E26: 84.7 | F26: 12000 | G26: 7300 | H26: 89000
B27: ﾒﾀﾊﾗ400W（MF400) | C27: 415 | D27: EL-GT20113N/W AHTN | E27: 112.1 | F27: 12000 | G27: 13000 | H27: 104000

Sheet 表示調整
D3: 削減額
D4: =データ!#REF! -> #REF! | R4: =入力シート!B3 -> 〇〇〇〇〇〇〇〇〇〇〇〇株式会社
D6: 月額
D7: =データ!L8 -> 92300 | J7: =1-(データ!M21/データ!L21) -> 0.69449541 | K7: 削減
D9: 契約内容
D10: =入力シート!F7 -> リース 9年
D12: 削減コスト | F12: 投資回収年数
B13: 年 | C13: 電気代 | D13: =データ!P14-データ!Y14 -> 1839510 | F13: =入力シート!C10/入力シート!J19 -> 3.8589081
B15: 年 | C15: ﾗﾝﾌﾟ | D15: =データ!T16 -> 152500 | F15: リース差額
F16: =D23-D7 -> 73700.833
B17: 年 | C17: 削減合計 | D17: =SUM(D13:D15) -> 1992010
B19: 月 | C19: 電気代 | D19: =D13/12 -> 153292.5
B21: 月 | C21: ﾗﾝﾌﾟ | D21: =データ!R22 -> 12708.333 | I21: （ランプ交換費用月額 | J21: =D15/12 -> 12708.333 | K21: 含む）
B23: 月 | C23: 削減合計 | D23: =D19+J21 -> 166000.83
F26: 既設器具 | G26: LED器具 | H26: 台数 | J26: 年間点灯時間
E27: 器具① | F27: =IF(入力シート!I7=0,"",入力シート!I7) -> FLR110W×2灯 | G27: =入力シート!I14 -> MY-V910331N 2AHTN | H27: =IF(入力シート!J7=0,"",入力シート!J7) -> 100 | J27: =入力シート!I10 -> 3000 | K27: 時間
E28: 器具② | F28: =IF(入力シート!I8=0,"",入力シート!I8) -> FHF32W×2灯 | G28: =入力シート!I15 -> MY-V450331N AHTN | H28: =IF(入力シート!J8=0,"",入力シート!J8) -> 20 | J28: 電力料単価 | N28: =IF(F29=0,"",F29) -> FLR40W×1灯 | O28: =IF(H29=0,"",H29) -> 300
E29: 器具③ | F29: =IF(入力シート!I9=0,"",入力シート!I9) -> FLR40W×1灯 | G29: =入力シート!I16 -> MY-V420331N AHTN | H29: =IF(入力シート!J9=0,"",入力シート!J9) -> 300 | J29: =入力シート!I11 -> 27 | K29: \/kWh
Z38: 年間点灯時間 | AD38: 電力料単価
Z39: =入力シート!I10 -> 3000 | AA39: 時間 | AD39: =入力シート!I11 -> 27 | AE39: \/kWh
AH41: =IF(Q42=0,"",Q42) | AI41: =IF(S42=0,"",S42)
AH42: =IF(Q41=0,"",Q41) | AI42: =IF(S41=0,"",S41)
AH43: =IF(Q40=0,"",Q40) | AI43: =IF(F29=0,"",F29) -> FLR40W×1灯 | AJ43: =IF(H29=0,"",H29) -> 300
AI44: =IF(F28=0,"",F28) -> FHF32W×2灯 | AJ44: =IF(H28=0,"",H28) -> 20
AI45: =IF(F27=0,"",F27) -> FLR110W×2灯 | AJ45: =IF(H27=0,"",H27) -> 100
AN52: =入力シート!E3 -> 2021 | AO52: - | AP52: =入力シート!G3 -> 1
