Workbook
Name _0105: [1]た!#REF!
Name _0205: [1]た!#REF!
Name _0305: [1]た!#REF!
Name _031: [1]C0A10Z01!#REF!
Name _032: [1]C0A10Z01!#REF!
Name _033: [1]C0A10Z01!#REF!
Name _0405: [1]た!#REF!
Name _0505: [1]た!#REF!
Name _0605: [1]た!#REF!
Name _0705: [1]た!#REF!
Name _0805: [1]た!#REF!
Name _0905: [1]た!#REF!
Name _1005: [1]た!#REF!
Name _1101: [1]た!#REF!
Name _1102: [1]た!#REF!
Name _1103: [1]た!#REF!
Name _1104: [1]た!#REF!
Name _1105: [1]た!#REF!
Name _1201: [1]た!#REF!
Name _1202: [1]た!#REF!
Name _1203: [1]た!#REF!
Name _1204: [1]た!#REF!
Name _1205: [1]た!#REF!
Name _1301: [1]た!#REF!
Name _1302: [1]た!#REF!
Name _1303: [1]た!#REF!
Name _1304: [1]た!#REF!
Name _1305: [1]た!#REF!
Name _1401: [1]た!#REF!
Name _1402: [1]た!#REF!
Name _1403: [1]た!#REF!
Name _1404: [1]た!#REF!
Name _1405: [1]た!#REF!
Name _1501: [1]た!#REF!
Name _1502: [1]た!#REF!
Name _1503: [1]た!#REF!
Name _1504: [1]た!#REF!
Name _1505: [1]た!#REF!
Name _151: [1]C0B10Z01!#REF!
Name _152: [1]C0B10Z01!#REF!
Name _153: [1]C0B10Z01!#REF!
Name _1601: [1]た!#REF!
Name _1602: [1]た!#REF!
Name _1603: [1]た!#REF!
Name _1604: [1]た!#REF!
Name _1605: [1]た!#REF!
Name _161: [1]C0B10Z01!#REF!
Name _162: [1]C0B10Z01!#REF!
Name _163: [1]C0B10Z01!#REF!
Name _1701: [1]た!#REF!
Name _1702: [1]た!#REF!
Name _1703: [1]た!#REF!
Name _1704: [1]た!#REF!
Name _1705: [1]た!#REF!
Name _171: [1]C0B10Z01!#REF!
Name _172: [1]C0B10Z01!#REF!
Name _173: [1]C0B10Z01!#REF!
Name _1CJ1_: #REF!
Name _2CJ6_: #REF!
Name _3CJ7_: #REF!

Sheet 全国
R3: 宛名入力
R6: 〇〇〇〇様
C32: エリア | D32: 中部（一般地） | E32: APF | F32: 本体価格 | G32: ランニングコスト (10年間） | H32: 給湯省エネ補助金 | J32: 補助金 ※対象エリア独自の補助金があれば 記載ください | K32: 合計 (トータルコスト) | L32: 高付加価値機能
C33: 容量 | D33: 370L | H33: 補助金 対象 | I33: 補助金額
C34: EQ | D34: Sシリーズ(高効率) | E34: =IF(COUNTIF(D32,"*寒冷地*"),IF(COUNTIF(D33,"*370L*"),DATA!F8,DATA!F9),IF(COUNTIF(D33,"*370L*"),DATA!F4,DATA!F5)) -> 3.8 | F34: 550000 | G34: {=_xlfn.XLOOKUP(1, (コスト参照!$2:$2=全国!$D$32) * (コスト参照!$3:$3=全国!$D$33), コスト参照!4:4)*10} -> 440000 | H34: =IF(COUNTIF(D32,"*寒冷地*"),IF(COUNTIF(D33,"*370L*"),DATA!G8,DATA!G9),IF(COUNTIF(D33,"*370L*"),DATA!G4,DATA!G5)) -> ○ | I34: =IF(COUNTIF(D32,"*寒冷地*"),IF(COUNTIF(D33,"*370L*"),DATA!H8,DATA!H9),IF(COUNTIF(D33,"*370L*"),DATA!H4,DATA!H5)) -> -130000 | J34: 0 | K34: =F34+G34+I34+J34 -> 860000 | L34: =IF(COUNTIF(D32,"*寒冷地*"),IF(COUNTIF(D33,"*370L*"),DATA!I8,DATA!I9),IF(COUNTIF(D33,"*370L*"),DATA!I4,DATA!I5)) -> 〇 | M34: =IF(COUNTIF(D32,"*寒冷地*"),IF(COUNTIF(D33,"*370L*"),DATA!J8,DATA!J9),IF(COUNTIF(D33,"*370L*"),DATA!J4,DATA!J5)) -> 〇 | N34: =IF(COUNTIF(D32,"*寒冷地*"),IF(COUNTIF(D33,"*370L*"),DATA!K8,DATA!K9),IF(COUNTIF(D33,"*370L*"),DATA!K4,DATA!K5)) -> 〇
D35: Vシリーズ | E35: =IF(COUNTIF(D32,"*寒冷地*"),IF(COUNTIF(D33,"*370L*"),DATA!F10,DATA!F11),IF(COUNTIF(D33,"*370L*"),DATA!F6,DATA!F7)) -> 3.5 | F35: 450000 | G35: {=_xlfn.XLOOKUP(1, (コスト参照!$2:$2=全国!$D$32) * (コスト参照!$3:$3=全国!$D$33), コスト参照!5:5)*10} -> 470000 | H35: =IF(COUNTIF(D32,"*寒冷地*"),IF(COUNTIF(D33,"*370L*"),DATA!G10,DATA!G11),IF(COUNTIF(D33,"*370L*"),DATA!G6,DATA!G7)) -> ○ | I35: =IF(COUNTIF(D32,"*寒冷地*"),IF(COUNTIF(D33,"*370L*"),DATA!H10,DATA!H11),IF(COUNTIF(D33,"*370L*"),DATA!H6,DATA!H7)) -> -100000 | J35: 0 | K35: =F35+G35+I35+J35 -> 820000 | L35: =IF(COUNTIF(D32,"*寒冷地*"),IF(COUNTIF(D33,"*370L*"),DATA!I10,DATA!I11),IF(COUNTIF(D33,"*370L*"),DATA!I6,DATA!I7)) -> × | M35: =IF(COUNTIF(D32,"*寒冷地*"),IF(COUNTIF(D33,"*370L*"),DATA!J10,DATA!J11),IF(COUNTIF(D33,"*370L*"),DATA!J6,DATA!J7)) -> × | N35: =IF(COUNTIF(D32,"*寒冷地*"),IF(COUNTIF(D33,"*370L*"),DATA!K10,DATA!K11),IF(COUNTIF(D33,"*370L*"),DATA!K6,DATA!K7)) -> 〇
D36: 10年前P機種相当 | F36: 0 | G36: {=_xlfn.XLOOKUP(1, (コスト参照!$2:$2=全国!$D$32) * (コスト参照!$3:$3=全国!$D$33), コスト参照!6:6)*10} -> 460000 | H36: × | K36: =F36+G36+I36+J36 -> 460000 | L36: × | M36: × | N36: ×
C37: ガス | D37: 都市ガス | F37: 200000 | G37: {=_xlfn.XLOOKUP(1, (コスト参照!$2:$2=全国!$D$32) * (コスト参照!$3:$3=全国!$D$33), コスト参照!7:7)*10} -> 890000 | H37: × | K37: =F37+G37+I37+J37 -> 1090000 | L37: × | M37: × | N37: × | U37: {=_xlfn.XLOOKUP(1,(試算条件!$3:$3=全国!$D$32) * (試算条件!#REF!=全国!$D$33),試算条件!31:31,"",0,1)}
D38: プロパン | F38: 100000 | G38: {=_xlfn.XLOOKUP(1, (コスト参照!$2:$2=全国!$D$32) * (コスト参照!$3:$3=全国!$D$33), コスト参照!8:8)*10} -> 1420000 | H38: × | K38: =F38+G38+I38+J38 -> 1520000 | L38: × | M38: × | N38: ×
C39: 電気温水器 | F39: =(787000+44000+13500)*50% -> 422250 | G39: {=_xlfn.XLOOKUP(1, (コスト参照!$2:$2=全国!$D$32) * (コスト参照!$3:$3=全国!$D$33), コスト参照!9:9)*10} -> 1700000 | H39: × | K39: =F39+G39+I39+J39 -> 2122250 | L39: × | M39: × | N39: ×
B56: ＊「エコキュート」の名称は、電力会社・給湯機メーカーが推奨する事前令浴びCO₂ヒートポンプ給湯機の愛称です。＊「エコキュート」は関西電力の登録商標です。
B57: {=_xlfn.XLOOKUP(1,(試算条件!$3:$3=全国!$D$32) * (試算条件!B31=全国!$D$33),試算条件!31:31,_xlfn.XLOOKUP(1,(試算条件!$3:$3=全国!$D$32) * (試算条件!B32=全国!$D$33),試算条件!32:32,"",0,1))} -> ［試算条件］JIS C 9220を名古屋エリア（標準地）の給水・外気温度に基づいて換算し、1日あたりの給湯使用量を4人世帯：約460L（40℃）と想定し、下記条件にて試算。エコキュートはSRT-S377U、SRT-V377、過去機種はSRT-P37UBで試算。電気料金は2025年1月時点の中部電力ミライズの「スマートライフプラン」の数値を使用（契約容量10kVA）。 都市ガス料金は東邦ガス（2025年1月調査）の数値を使用。基本料金1,588.88円、単価177.04円/㎥、単位発熱量45MJ/㎥で算出。 LPガス料金は一般財団法人日本エネルギー経済研究所 石油情報センター（2025年1月調査）を使用。基本料金1,973円、単価638.4円/㎥、単位発熱量100.5MJ/㎥で算出（使用量50㎥の料金で試算しています。）ランニングコストの目安は、季節や地域、運転モードの設定、ご利用状況、電力契約等により異なります。

Sheet コスト参照
D2: 北海道（寒冷地） | E2: 北海道（寒冷地） | F2: 東北（一般地） | G2: 東北（一般地） | H2: 東北（寒冷地） | I2: 東北（寒冷地） | J2: 関東（一般地） | K2: 関東（一般地） | L2: 関東（寒冷地） | M2: 関東（寒冷地） | N2: 中部（一般地） | O2: 中部（一般地） | P2: 中部（寒冷地） | Q2: 中部（寒冷地） | R2: 北陸 | S2: 北陸 | T2: 関西 | U2: 関西 | V2: 中国 | W2: 中国 | X2: 四国 | Y2: 四国 | Z2: 九州 | AA2: 九州
C3: 過去形名 | D3: 370L | E3: 460L | F3: 370L | G3: 460L | H3: 370L | I3: 460L | J3: 370L | K3: 460L | L3: 370L | M3: 460L | N3: 370L | O3: 460L | P3: 370L | Q3: 460L | R3: 370L | S3: 460L | T3: 370L | U3: 460L | V3: 370L | W3: 460L | X3: 370L | Y3: 460L | Z3: 370L | AA3: 460L
C4: Sシリーズ(高効率) | D4: =ROUNDUP(D17,-2) -> 72800 | E4: =ROUNDUP(E17,-2) -> 82400 | F4: =ROUNDUP(F17,-2) -> 59000 | G4: =ROUNDUP(G17,-2) -> 67000 | H4: =ROUNDUP(H17,-2) -> 60000 | I4: =ROUNDUP(I17,-2) -> 68000 | J4: =ROUNDUP(J17,-2) -> 45000 | K4: =ROUNDUP(K17,-2) -> 52000 | ... AA4: =ROUNDUP(AA17,-2) -> 39000
C5: Vシリーズ | D5: =ROUNDUP(D18,-2) -> 77600 | E5: =ROUNDUP(E18,-2) -> 87800 | F5: =ROUNDUP(F18,-2) -> 64000 | G5: =ROUNDUP(G18,-2) -> 73000 | H5: =ROUNDUP(H18,-2) -> 64000 | I5: =ROUNDUP(I18,-2) -> 72000 | J5: =ROUNDUP(J18,-2) -> 49000 | K5: =ROUNDUP(K18,-2) -> 56000 | ... AA5: =ROUNDUP(AA18,-2) -> 42000
C6: 15年前機種相当 | D6: =ROUNDUP(D19,-2) -> 83100 | E6: =ROUNDUP(E19,-2) -> 94100 | F6: =ROUNDUP(F19,-2) -> 63000 | G6: =ROUNDUP(G19,-2) -> 73000 | H6: =ROUNDUP(H19,-2) -> 68000 | I6: =ROUNDUP(I19,-2) -> 77000 | J6: =ROUNDUP(J19,-2) -> 48000 | K6: =ROUNDUP(K19,-2) -> 56000 | ... AA6: =ROUNDUP(AA19,-2) -> 41000
C7: 都市ガス | D7: =ROUND(D20,-2) -> 115700 | E7: =ROUND(E20,-2) -> 130400 | F7: =ROUND(F20,-2) -> 102000 | G7: =ROUND(G20,-2) -> 115000 | H7: =ROUND(H20,-2) -> 102000 | I7: =ROUND(I20,-2) -> 115000 | J7: =ROUND(J20,-2) -> 77000 | K7: =ROUND(K20,-2) -> 86000 | ... AA7: =ROUND(AA20,-2) -> 116000
C8: プロパン | D8: =ROUND(D21,-2) -> 215200 | E8: =ROUND(E21,-2) -> 243000 | F8: =ROUND(F21,-2) -> 179000 | G8: =ROUND(G21,-2) -> 202000 | H8: =ROUND(H21,-2) -> 179000 | I8: =ROUND(I21,-2) -> 202000 | J8: =ROUND(J21,-2) -> 139000 | K8: =ROUND(K21,-2) -> 156000 | ... AA8: =ROUND(AA21,-2) -> 145000
C9: 電気温水器 | D9: =ROUND(D22,-2) -> 259200 | E9: =ROUND(E22,-2) -> 322500 | F9: =ROUND(F22,-2) -> 236000 | G9: =ROUND(G22,-2) -> 294000 | H9: =ROUND(H22,-2) -> 236000 | I9: =ROUND(I22,-2) -> 294000 | J9: =ROUND(J22,-2) -> 197000 | K9: =ROUND(K22,-2) -> 247000 | ... AA9: =ROUND(AA22,-2) -> 180000
B13: ◆データベース
B14: 以下に年間ランコスを記載。一般地：SRT-S377,S467 寒冷地：SRT-SK377D,SRT-SK466D ｶﾞｽ給湯器はエコジョーズを選択
D15: 北海道（寒冷地） | F15: 東北（一般地） | H15: 東北（寒冷地） | J15: 関東（一般地） | L15: 関東（寒冷地） | N15: 中部（一般地） | P15: 中部（寒冷地） | R15: 北陸 | T15: 関西 | V15: 中国 | X15: 四国 | Z15: 九州
D16: 370L | E16: 460L | F16: 370L | G16: 460L | H16: 370L | I16: 460L | J16: 370L | K16: 460L | L16: 370L | M16: 460L | N16: 370L | O16: 460L | P16: 370L | Q16: 460L | R16: 370L | S16: 460L | T16: 370L | U16: 460L | V16: 370L | W16: 460L | X16: 370L | Y16: 460L | Z16: 370L | AA16: 460L
B17: EQ | C17: Sシリーズ(高効率) | D17: =_xlfn.XLOOKUP(D15,ランコス!$5:$5,ランコス!$23:$23,"",0,1) -> 72732 | E17: =_xlfn.XLOOKUP(D15,ランコス!$5:$5,ランコス!$32:$32,"",0,1) -> 82340 | F17: =_xlfn.XLOOKUP(F15,ランコス!$5:$5,ランコス!$23:$23,"",0,1) -> 59000 | G17: =_xlfn.XLOOKUP(F15,ランコス!$5:$5,ランコス!$32:$32,"",0,1) -> 67000 | H17: =IF(COUNTIF($C$17,"*S*"),_xlfn.XLOOKUP(H15,ランコス!$5:$5,ランコス!$23:$23,"",0,1)) -> 60000 | I17: =IF(COUNTIF($C$17,"*S*"),_xlfn.XLOOKUP(H15,ランコス!$5:$5,ランコス!$32:$32,"",0,1)) -> 68000 | J17: =IF(COUNTIF($C$17,"*S*"),_xlfn.XLOOKUP(J15,ランコス!$5:$5,ランコス!$23:$23,"",0,1)) -> 45000 | K17: =IF(COUNTIF($C$17,"*S*"),_xlfn.XLOOKUP(J15,ランコス!$5:$5,ランコス!$32:$32,"",0,1)) -> 52000 | L17: =IF(COUNTIF($C$17,"*S*"),_xlfn.XLOOKUP(L15,ランコス!$5:$5,ランコス!$23:$23,"",0,1)) -> 57000 | M17: =IF(COUNTIF($C$17,"*S*"),_xlfn.XLOOKUP(L15,ランコス!$5:$5,ランコス!$32:$32,"",0,1)) -> 65000 | N17: =IF(COUNTIF($C$17,"*S*"),_xlfn.XLOOKUP(N15,ランコス!$5:$5,ランコス!$23:$23,"",0,1)) -> 44000 | O17: =IF(COUNTIF($C$17,"*S*"),_xlfn.XLOOKUP(N15,ランコス!$5:$5,ランコス!$32:$32,"",0,1)) -> 49000 | P17: =IF(COUNTIF($C$17,"*S*"),_xlfn.XLOOKUP(P15,ランコス!$5:$5,ランコス!$23:$23,"",0,1)) -> 47879 | Q17: =IF(COUNTIF($C$17,"*S*"),_xlfn.XLOOKUP(P15,ランコス!$5:$5,ランコス!$32:$32,"",0,1)) -> 54255 | R17: =IF(COUNTIF($C$17,"*S*"),_xlfn.XLOOKUP(R15,ランコス!$5:$5,ランコス!$23:$23,"",0,1)) -> 45000 | S17: =IF(COUNTIF($C$17,"*S*"),_xlfn.XLOOKUP(R15,ランコス!$5:$5,ランコス!$32:$32,"",0,1)) -> 51000 | T17: =IF(COUNTIF($C$17,"*S*"),_xlfn.XLOOKUP(T15,ランコス!$5:$5,ランコス!$23:$23,"",0,1)) -> 36000 | U17: =IF(COUNTIF($C$17,"*S*"),_xlfn.XLOOKUP(T15,ランコス!$5:$5,ランコス!$32:$32,"",0,1)) -> 41000 | V17: =IF(COUNTIF($C$17,"*S*"),_xlfn.XLOOKUP(V15,ランコス!$5:$5,ランコス!$23:$23,"",0,1)) -> 44000 | W17: =IF(COUNTIF($C$17,"*S*"),_xlfn.XLOOKUP(V15,ランコス!$5:$5,ランコス!$32:$32,"",0,1)) -> 50000 | X17: =IF(COUNTIF($C$17,"*S*"),_xlfn.XLOOKUP(X15,ランコス!$5:$5,ランコス!$23:$23,"",0,1)) -> 44000 | Y17: =IF(COUNTIF($C$17,"*S*"),_xlfn.XLOOKUP(X15,ランコス!$5:$5,ランコス!$32:$32,"",0,1)) -> 49000 | Z17: =IF(COUNTIF($C$17,"*S*"),_xlfn.XLOOKUP(Z15,ランコス!$5:$5,ランコス!$23:$23,"",0,1)) -> 34000 | AA17: =IF(COUNTIF($C$17,"*S*"),_xlfn.XLOOKUP(Z15,ランコス!$5:$5,ランコス!$32:$32,"",0,1)) -> 39000
C18: Vシリーズ | D18: =_xlfn.XLOOKUP(D15,ランコス!$5:$5,ランコス!$24:$24,"",0,1) -> 77562 | E18: =_xlfn.XLOOKUP(D15,ランコス!$5:$5,ランコス!$33:$33,"",0,1) -> 87775 | F18: =_xlfn.XLOOKUP(F15,ランコス!$5:$5,ランコス!$24:$24,"",0,1) -> 64000 | G18: =_xlfn.XLOOKUP(F15,ランコス!$5:$5,ランコス!$33:$33,"",0,1) -> 73000 | H18: =_xlfn.XLOOKUP(H15,ランコス!$5:$5,ランコス!$24:$24,"",0,1) -> 64000 | I18: =_xlfn.XLOOKUP(H15,ランコス!$5:$5,ランコス!$33:$33,"",0,1) -> 72000 | J18: =_xlfn.XLOOKUP(J15,ランコス!$5:$5,ランコス!$24:$24,"",0,1) -> 49000 | K18: =_xlfn.XLOOKUP(J15,ランコス!$5:$5,ランコス!$33:$33,"",0,1) -> 56000 | L18: =_xlfn.XLOOKUP(L15,ランコス!$5:$5,ランコス!$24:$24,"",0,1) -> 61000 | M18: =_xlfn.XLOOKUP(L15,ランコス!$5:$5,ランコス!$33:$33,"",0,1) -> 69000 | N18: =_xlfn.XLOOKUP(N15,ランコス!$5:$5,ランコス!$24:$24,"",0,1) -> 47000 | O18: =_xlfn.XLOOKUP(N15,ランコス!$5:$5,ランコス!$33:$33,"",0,1) -> 54000 | P18: =_xlfn.XLOOKUP(P15,ランコス!$5:$5,ランコス!$24:$24,"",0,1) -> 51104 | Q18: =_xlfn.XLOOKUP(P15,ランコス!$5:$5,ランコス!$33:$33,"",0,1) -> 57896 | R18: =_xlfn.XLOOKUP(R15,ランコス!$5:$5,ランコス!$24:$24,"",0,1) -> 49000 | S18: =_xlfn.XLOOKUP(R15,ランコス!$5:$5,ランコス!$33:$33,"",0,1) -> 55000 | T18: =_xlfn.XLOOKUP(T15,ランコス!$5:$5,ランコス!$24:$24,"",0,1) -> 39000 | U18: =_xlfn.XLOOKUP(T15,ランコス!$5:$5,ランコス!$33:$33,"",0,1) -> 45000 | V18: =_xlfn.XLOOKUP(V15,ランコス!$5:$5,ランコス!$24:$24,"",0,1) -> 47000 | W18: =_xlfn.XLOOKUP(V15,ランコス!$5:$5,ランコス!$33:$33,"",0,1) -> 54000 | X18: =_xlfn.XLOOKUP(X15,ランコス!$5:$5,ランコス!$24:$24,"",0,1) -> 47000 | Y18: =_xlfn.XLOOKUP(X15,ランコス!$5:$5,ランコス!$33:$33,"",0,1) -> 54000 | Z18: =_xlfn.XLOOKUP(Z15,ランコス!$5:$5,ランコス!$24:$24,"",0,1) -> 37000 | AA18: =_xlfn.XLOOKUP(Z15,ランコス!$5:$5,ランコス!$33:$33,"",0,1) -> 42000
C19: 10年前機種相当 | D19: =_xlfn.XLOOKUP(D15,ランコス!$5:$5,ランコス!$66:$66,"",0,1) -> 83084 | E19: =_xlfn.XLOOKUP(D15,ランコス!$5:$5,ランコス!$71:$71,"",0,1) -> 94013 | F19: =_xlfn.XLOOKUP(F15,ランコス!$5:$5,ランコス!$66:$66,"",0,1) -> 63000 | G19: =_xlfn.XLOOKUP(F15,ランコス!$5:$5,ランコス!$71:$71,"",0,1) -> 73000 | H19: =_xlfn.XLOOKUP(H15,ランコス!$5:$5,ランコス!$66:$66,"",0,1) -> 68000 | I19: =_xlfn.XLOOKUP(H15,ランコス!$5:$5,ランコス!$71:$71,"",0,1) -> 77000 | J19: =_xlfn.XLOOKUP(J15,ランコス!$5:$5,ランコス!$66:$66,"",0,1) -> 48000 | K19: =_xlfn.XLOOKUP(J15,ランコス!$5:$5,ランコス!$71:$71,"",0,1) -> 56000 | L19: =_xlfn.XLOOKUP(L15,ランコス!$5:$5,ランコス!$66:$66,"",0,1) -> 65000 | M19: =_xlfn.XLOOKUP(L15,ランコス!$5:$5,ランコス!$71:$71,"",0,1) -> 74000 | N19: =_xlfn.XLOOKUP(N15,ランコス!$5:$5,ランコス!$66:$66,"",0,1) -> 46000 | O19: =_xlfn.XLOOKUP(N15,ランコス!$5:$5,ランコス!$71:$71,"",0,1) -> 54000 | P19: =_xlfn.XLOOKUP(P15,ランコス!$5:$5,ランコス!$66:$66,"",0,1) -> 54796 | Q19: =_xlfn.XLOOKUP(P15,ランコス!$5:$5,ランコス!$71:$71,"",0,1) -> 62080 | R19: =_xlfn.XLOOKUP(R15,ランコス!$5:$5,ランコス!$66:$66,"",0,1) -> 47000 | S19: =_xlfn.XLOOKUP(R15,ランコス!$5:$5,ランコス!$71:$71,"",0,1) -> 55000 | T19: =_xlfn.XLOOKUP(T15,ランコス!$5:$5,ランコス!$66:$66,"",0,1) -> 38000 | U19: =_xlfn.XLOOKUP(T15,ランコス!$5:$5,ランコス!$71:$71,"",0,1) -> 45000 | V19: =_xlfn.XLOOKUP(V15,ランコス!$5:$5,ランコス!$66:$66,"",0,1) -> 46000 | W19: =_xlfn.XLOOKUP(V15,ランコス!$5:$5,ランコス!$71:$71,"",0,1) -> 54000 | X19: =_xlfn.XLOOKUP(X15,ランコス!$5:$5,ランコス!$66:$66,"",0,1) -> 46000 | Y19: =_xlfn.XLOOKUP(X15,ランコス!$5:$5,ランコス!$71:$71,"",0,1) -> 54000 | Z19: =_xlfn.XLOOKUP(Z15,ランコス!$5:$5,ランコス!$66:$66,"",0,1) -> 36000 | AA19: =_xlfn.XLOOKUP(Z15,ランコス!$5:$5,ランコス!$71:$71,"",0,1) -> 41000
B20: ガス | C20: 都市ガス | D20: =_xlfn.XLOOKUP(D15,ランコス!$5:$5,ランコス!$28:$28,"",0,1) -> 115749 | E20: =_xlfn.XLOOKUP(D15,ランコス!$5:$5,ランコス!$37:$37,"",0,1) -> 130359 | F20: =_xlfn.XLOOKUP(F15,ランコス!$5:$5,ランコス!$28:$28,"",0,1) -> 102000 | G20: =_xlfn.XLOOKUP(F15,ランコス!$5:$5,ランコス!$37:$37,"",0,1) -> 115000 | H20: =_xlfn.XLOOKUP(H15,ランコス!$5:$5,ランコス!$28:$28,"",0,1) -> 102000 | I20: =_xlfn.XLOOKUP(H15,ランコス!$5:$5,ランコス!$37:$37,"",0,1) -> 115000 | J20: =_xlfn.XLOOKUP(J15,ランコス!$5:$5,ランコス!$28:$28,"",0,1) -> 77000 | K20: =_xlfn.XLOOKUP(J15,ランコス!$5:$5,ランコス!$37:$37,"",0,1) -> 86000 | L20: =_xlfn.XLOOKUP(L15,ランコス!$5:$5,ランコス!$28:$28,"",0,1) -> 83000 | M20: =_xlfn.XLOOKUP(L15,ランコス!$5:$5,ランコス!$71:$71,"",0,1) -> 74000 | N20: =_xlfn.XLOOKUP(N15,ランコス!$5:$5,ランコス!$28:$28,"",0,1) -> 89000 | O20: =_xlfn.XLOOKUP(N15,ランコス!$5:$5,ランコス!$37:$37,"",0,1) -> 100000 | P20: =_xlfn.XLOOKUP(P15,ランコス!$5:$5,ランコス!$28:$28,"",0,1) -> 92390 | Q20: =_xlfn.XLOOKUP(P15,ランコス!$5:$5,ランコス!$37:$37,"",0,1) -> 103572 | R20: =_xlfn.XLOOKUP(R15,ランコス!$5:$5,ランコス!$28:$28,"",0,1) -> 112000 | S20: =_xlfn.XLOOKUP(R15,ランコス!$5:$5,ランコス!$37:$37,"",0,1) -> 126000 | T20: =_xlfn.XLOOKUP(T15,ランコス!$5:$5,ランコス!$28:$28,"",0,1) -> 79000 | U20: =_xlfn.XLOOKUP(T15,ランコス!$5:$5,ランコス!$37:$37,"",0,1) -> 89000 | V20: =_xlfn.XLOOKUP(V15,ランコス!$5:$5,ランコス!$28:$28,"",0,1) -> 108000 | W20: =_xlfn.XLOOKUP(V15,ランコス!$5:$5,ランコス!$37:$37,"",0,1) -> 122000 | X20: =_xlfn.XLOOKUP(X15,ランコス!$5:$5,ランコス!$28:$28,"",0,1) -> 106000 | Y20: =_xlfn.XLOOKUP(X15,ランコス!$5:$5,ランコス!$37:$37,"",0,1) -> 118000 | Z20: =_xlfn.XLOOKUP(Z15,ランコス!$5:$5,ランコス!$28:$28,"",0,1) -> 103000 | AA20: =_xlfn.XLOOKUP(Z15,ランコス!$5:$5,ランコス!$37:$37,"",0,1) -> 116000
C21: プロパン | D21: =_xlfn.XLOOKUP(D15,ランコス!$5:$5,ランコス!$29:$29,"",0,1) -> 215210 | E21: =_xlfn.XLOOKUP(D15,ランコス!$5:$5,ランコス!$38:$38,"",0,1) -> 242990 | F21: =_xlfn.XLOOKUP(F15,ランコス!$5:$5,ランコス!$29:$29,"",0,1) -> 179000 | G21: =_xlfn.XLOOKUP(F15,ランコス!$5:$5,ランコス!$38:$38,"",0,1) -> 202000 | H21: =_xlfn.XLOOKUP(H15,ランコス!$5:$5,ランコス!$29:$29,"",0,1) -> 179000 | I21: =_xlfn.XLOOKUP(H15,ランコス!$5:$5,ランコス!$38:$38,"",0,1) -> 202000 | J21: =_xlfn.XLOOKUP(J15,ランコス!$5:$5,ランコス!$29:$29,"",0,1) -> 139000 | K21: =_xlfn.XLOOKUP(J15,ランコス!$5:$5,ランコス!$38:$38,"",0,1) -> 156000 | L21: =_xlfn.XLOOKUP(L15,ランコス!$5:$5,ランコス!$29:$29,"",0,1) -> 150000 | M21: =_xlfn.XLOOKUP(L15,ランコス!$5:$5,ランコス!$71:$71,"",0,1) -> 74000 | N21: =_xlfn.XLOOKUP(N15,ランコス!$5:$5,ランコス!$29:$29,"",0,1) -> 142000 | O21: =_xlfn.XLOOKUP(N15,ランコス!$5:$5,ランコス!$38:$38,"",0,1) -> 160000 | P21: =_xlfn.XLOOKUP(P15,ランコス!$5:$5,ランコス!$29:$29,"",0,1) -> 147053 | Q21: =_xlfn.XLOOKUP(P15,ランコス!$5:$5,ランコス!$38:$38,"",0,1) -> 165450 | R21: =_xlfn.XLOOKUP(R15,ランコス!$5:$5,ランコス!$29:$29,"",0,1) -> 152000 | S21: =_xlfn.XLOOKUP(R15,ランコス!$5:$5,ランコス!$38:$38,"",0,1) -> 171000 | T21: =_xlfn.XLOOKUP(T15,ランコス!$5:$5,ランコス!$29:$29,"",0,1) -> 128000 | U21: =_xlfn.XLOOKUP(T15,ランコス!$5:$5,ランコス!$38:$38,"",0,1) -> 144000 | V21: =_xlfn.XLOOKUP(V15,ランコス!$5:$5,ランコス!$29:$29,"",0,1) -> 146000 | W21: =_xlfn.XLOOKUP(V15,ランコス!$5:$5,ランコス!$38:$38,"",0,1) -> 165000 | X21: =_xlfn.XLOOKUP(X15,ランコス!$5:$5,ランコス!$29:$29,"",0,1) -> 130000 | Y21: =_xlfn.XLOOKUP(X15,ランコス!$5:$5,ランコス!$38:$38,"",0,1) -> 145000 | Z21: =_xlfn.XLOOKUP(Z15,ランコス!$5:$5,ランコス!$29:$29,"",0,1) -> 129000 | AA21: =_xlfn.XLOOKUP(Z15,ランコス!$5:$5,ランコス!$38:$38,"",0,1) -> 145000
B22: 電気温水器 | D22: =_xlfn.XLOOKUP(D15,ランコス!$5:$5,ランコス!$25:$25,"",0,1) -> 259165 | E22: =_xlfn.XLOOKUP(D15,ランコス!$5:$5,ランコス!$34:$34,"",0,1) -> 322506 | F22: =_xlfn.XLOOKUP(F15,ランコス!$5:$5,ランコス!$25:$25,"",0,1) -> 236000 | G22: =_xlfn.XLOOKUP(F15,ランコス!$5:$5,ランコス!$34:$34,"",0,1) -> 294000 | H22: =_xlfn.XLOOKUP(H15,ランコス!$5:$5,ランコス!$25:$25,"",0,1) -> 236000 | I22: =_xlfn.XLOOKUP(H15,ランコス!$5:$5,ランコス!$34:$34,"",0,1) -> 294000 | J22: =_xlfn.XLOOKUP(J15,ランコス!$5:$5,ランコス!$25:$25,"",0,1) -> 197000 | K22: =_xlfn.XLOOKUP(J15,ランコス!$5:$5,ランコス!$34:$34,"",0,1) -> 247000 | L22: =_xlfn.XLOOKUP(L15,ランコス!$5:$5,ランコス!$25:$25,"",0,1) -> 217000 | M22: =_xlfn.XLOOKUP(L15,ランコス!$5:$5,ランコス!$34:$34,"",0,1) -> 271000 | N22: =_xlfn.XLOOKUP(N15,ランコス!$5:$5,ランコス!$25:$25,"",0,1) -> 170000 | O22: =_xlfn.XLOOKUP(N15,ランコス!$5:$5,ランコス!$34:$34,"",0,1) -> 212000 | P22: =_xlfn.XLOOKUP(P15,ランコス!$5:$5,ランコス!$25:$25,"",0,1) -> 176118 | Q22: =_xlfn.XLOOKUP(P15,ランコス!$5:$5,ランコス!$34:$34,"",0,1) -> 220227 | R22: =_xlfn.XLOOKUP(R15,ランコス!$5:$5,ランコス!$25:$25,"",0,1) -> 183000 | S22: =_xlfn.XLOOKUP(R15,ランコス!$5:$5,ランコス!$34:$34,"",0,1) -> 228000 | T22: =_xlfn.XLOOKUP(T15,ランコス!$5:$5,ランコス!$25:$25,"",0,1) -> 154000 | U22: =_xlfn.XLOOKUP(T15,ランコス!$5:$5,ランコス!$34:$34,"",0,1) -> 193000 | V22: =_xlfn.XLOOKUP(V15,ランコス!$5:$5,ランコス!$25:$25,"",0,1) -> 186000 | W22: =_xlfn.XLOOKUP(V15,ランコス!$5:$5,ランコス!$34:$34,"",0,1) -> 233000 | X22: =_xlfn.XLOOKUP(X15,ランコス!$5:$5,ランコス!$25:$25,"",0,1) -> 186000 | Y22: =_xlfn.XLOOKUP(X15,ランコス!$5:$5,ランコス!$34:$34,"",0,1) -> 234000 | Z22: =_xlfn.XLOOKUP(Z15,ランコス!$5:$5,ランコス!$25:$25,"",0,1) -> 144000 | AA22: =_xlfn.XLOOKUP(Z15,ランコス!$5:$5,ランコス!$34:$34,"",0,1) -> 180000

Sheet 形名一覧 
A1: ■三菱 家庭用エコキュート形名・価格一覧
B3: １．セット形名
B4: （１）標準地・カタログ掲載機種
I5: ２５年６月以降 | J5: 補助金 | M5: (部材)
B6: 塩害区分 | C6: 区分 | D6: 仕向地 | E6: ふろ機能 | F6: 形名 | H6: APF | I6: 価格 | J6: 対象 | K6: APF | Q6: 形名 | S6: 価格
I7: （税抜） | S7: （税抜）
B8: 標準地 | C8: Pｼﾘｰｽﾞ | D8: 一般地 | E8: 追いだき | F8: SRT-P467UB | I8: 1440000 | M8: ﾘﾓｺﾝ | N8: 通常 | O8: Pｼﾘｰｽﾞ用ﾘﾓｺﾝｾｯﾄ | Q8: RMCB-H7SE | S8: 70000
F9: SRT-P377UB | I9: 1350000 | O9: Sｼﾘｰｽﾞ用ﾘﾓｺﾝｾｯﾄ | Q9: RMCB-F7SE | S9: 70000
C10: Sｼﾘｰｽﾞ | D10: 一般地 | E10: 追いだき | F10: SRT-S557U | I10: 1460000 | O10: Vシリーズ用ﾘﾓｺﾝｾｯﾄ | Q10: RMCB-D7SE | S10: 70000
F11: SRT-S467U | I11: 1390000 | O11: 給湯専用ﾘﾓｺﾝ | Q11: RMCB-N7 | S11: 37000
F12: SRT-S377U | I12: 1280000
F13: SRT-S437UZ | I13: 1510000
F14: SRT-S377UZ | I14: 1400000
F15: SRT-S557 | I15: 1390000
F16: SRT-S467 | I16: 1320000
F17: SRT-S377 | I17: 1210000
C18: Sｼﾘｰｽﾞ | D18: 寒冷地 | E18: 追いだき | F18: SRT-SK557UD | I18: 1540000
F19: SRT-SK467UD | I19: 1410000
F20: SRT-SK377UD | I20: 1300000 | M20: 脚部ｶﾊﾞｰ | O20: 370/460L用/300L低背 | Q20: GT-M460W | S20: 13500
F21: SRT-SK467D | I21: 1340000 | O21: 370/460L用（耐塩害） | Q21: GT-M460W-BSG | S21: 20000
F22: SRT-SK377D | I22: 1230000 | O22: けこみｶﾊﾞｰ(耐塩害） | Q22: GT-L460HCA | S22: 10000
C23: Vｼﾘｰｽﾞ | D23: 一般地 | E23: 追いだき | F23: SRT-V467 | I23: 1220000 | O23: 550L用 | Q23: GT-M550W | S23: 20000
F24: SRT-V377 | I24: 1110000 | O24: 550L用（耐塩害） | Q24: GT-M550W-BSG | S24: 26500
F25: SRT-V377D | G25: 受注 | I25: 1130000 | O25: 薄型用(耐塩害） | Q25: GT-L370ZB | S25: 21000
D26: 寒冷地 | E26: 追いだき | F26: SRT-VK467D | I26: 1270000 | O26: 300L用(耐塩害） | Q26: GT-L300B | S26: 12000
F27: SRT-VK377D | I27: 1180000 | O27: 180L用（耐塩害） | Q27: GT-L180B | S27: 12000
D28: 一般地 | E28: 給湯専用 | F28: SRT-N467 | I28: 1070000
F29: SRT-N377 | I29: 970000
D30: 寒冷地 | E30: 給湯専用 | F30: SRT-NK467D | I30: 1150000
F31: SRT-NK377D | I31: 1060000
D32: 一般地 | E32: エコオート | F32: SRT-C467 | I32: 1100000
F33: SRT-C377 | I33: 1010000
C34: EXｼﾘｰｽﾞ | D34: 一般地 | E34: 追いだき | F34: SRT-B306DM | G34: 受注 | I34: OPEN
B36: (2)ｺﾝﾊﾟｸ・ﾗｲﾄﾄｴｺｷｭｰﾄ
I37: ２５年６月以降
B38: 塩害区分 | C38: 区分 | D38: 仕向地 | E38: ふろ機能 | F38: 形名 | I38: 価格
I39: （税抜）
B40: 標準地 | C40: Sｼﾘｰｽﾞ | D40: 一般地 | E40: 追いだき | F40: SRT-S186D | I40: 1070000
F41: SRT-SK186D | I41: 1190000
C42: Aｼﾘｰｽﾞ | D42: 一般地 | E42: 給湯専用 | F42: SRT-N186D | I42: 940000
F43: SRT-NK186D | I43: 1010000

Sheet DATA
A3: 選択してください | B3: 選択してください | F3: APF | G3: 対象 | H3: 補助金 | I3: ｷﾗﾘﾕ | J3: ﾊﾞﾌﾞﾙ | K3: パカっと
A4: 北海道（寒冷地） | B4: 370L | E4: SRT-S377 | F4: 3.8 | G4: ○ | H4: -130000 | I4: 〇 | J4: 〇 | K4: 〇
A5: 東北（一般地） | B5: 460L | E5: SRT-S467 | F5: 3.8 | G5: ○ | H5: -130000 | I5: 〇 | J5: 〇 | K5: 〇
A6: 東北（寒冷地） | E6: SRT-V377 | F6: 3.5 | G6: ○ | H6: -100000 | I6: × | J6: × | K6: 〇
A7: 関東（一般地） | E7: SRT-V467 | F7: 3.5 | G7: ○ | H7: -100000 | I7: × | J7: × | K7: 〇
A8: 関東（寒冷地） | E8: SRT-SK377D | F8: 3.1 | G8: ○ | H8: -130000 | I8: 〇 | J8: 〇 | K8: 〇
A9: 中部（一般地） | E9: SRT-SK467D | F9: 3.1 | G9: ○ | H9: -130000 | I9: 〇 | J9: 〇 | K9: 〇
A10: 中部（寒冷地） | E10: SRT-VK377UD | F10: 2.9 | G10: ○ | H10: -100000 | I10: × | J10: × | K10: 〇
A11: 北陸 | E11: SRT-VK467UD | F11: 2.9 | G11: ○ | H11: -100000 | I11: × | J11: × | K11: 〇
A12: 関西
A13: 中国
A14: 四国 | D14: =IF(COUNTIF(A2,"*寒冷地*"),IF(COUNTIF(B2,"*370L*"),F8,F9),IF(COUNTIF(B2,"*370L*"),F4,F5)) -> 3.8
A15: 九州

Sheet ランコス
A2: ■簡易熱源比較（エリア別世帯人数別給湯熱源・給湯機器別年間ランニングコスト比較）
A4: https://www.mitsubishielectric.co.jp/home/ecocute/introduction/simulation/index.html
A5: 家族人数 | D5: エリア | E5: 北海道（寒冷地） | F5: 北海道（寒冷地） | G5: 東北 寒冷地 | H5: 東北（寒冷地） | I5: 東北 一般地 | J5: 東北（一般地） | K5: 関東（一般地）＿ | L5: 関東（一般地） | M5: 関東（寒冷地）＿ | N5: 関東（寒冷地） | O5: 北陸＿ | P5: 北陸 | Q5: 中部＿ | R5: 中部（一般地） | S5: 中部（寒冷地） | T5: 中部（寒冷地） | U5: 関西＿ | V5: 関西 | W5: 中国＿ | X5: 中国 | Y5: 四国＿ | Z5: 四国 | AA5: 九州＿ | AB5: 九州 | AC5: 沖縄＿ | AD5: 沖縄 | AE5: 沖縄
D6: 電力プラン | E6: エネとくスマートプラン | F6: エネとくスマートプラン | G6: よりそう+スマートタイム | H6: よりそう+スマートタイム | I6: よりそう+スマートタイム | J6: よりそう+スマートタイム | K6: スマートライフＬ | L6: スマートライフＬ | M6: スマートライフＬ | N6: スマートライフＬ | O6: くつろぎナイト12 | P6: くつろぎナイト12 | Q6: スマートライフプラン | R6: スマートライフプラン | S6: スマートライフプラン | T6: スマートライフプラン | U6: はぴeタイムR | V6: はぴeタイムR | W6: 電化styleコース | X6: 電化styleコース | Y6: でんかeプラン | Z6: でんかeプラン | AA6: 電化でナイト・セレクト22 | AB6: 電化でナイト・セレクト22 | AC6: Eeホームホリデー | AD6: Eeホームホリデー | AE6: Eeホームホリデー
D7: 試算地域 | E7: 北海道札幌市 | F7: 北海道札幌市 | G7: 宮城県仙台市 | H7: 宮城県仙台市 | I7: 宮城県仙台市 | J7: 宮城県仙台市 | K7: 東京都東京 | L7: 東京都東京 | M7: 群馬県水上市 | N7: 群馬県水上市 | O7: 石川県金沢市 | P7: 石川県金沢市 | Q7: 愛知県名古屋市 | R7: 愛知県名古屋市 | S7: 愛知県名古屋市 | T7: 愛知県名古屋市 | U7: 大阪府大阪市 | V7: 大阪府大阪市 | W7: 広島県広島市 | X7: 広島県広島市 | Y7: 香川県高松市 | Z7: 香川県高松市 | AA7: 福岡県福岡市 | AB7: 福岡県福岡市 | AC7: 沖縄県那覇市 | AD7: 沖縄県那覇市 | AE7: 沖縄県那覇市
A8: 2人 | B8: 1 | C8: エコキュートＰシリーズ | I8: 39476 | J8: =ROUND(I8,-3) -> 39000 | K8: 30134 | L8: =ROUND(K8,-3) -> 30000 | N8: =ROUND(M8,-3) -> 0 | O8: 29718 | P8: =ROUND(O8,-3) -> 30000 | Q8: 28839 | R8: =ROUND(Q8,-3) -> 29000 | T8: =ROUND(S8,-3) -> 0 | U8: 24066 | V8: =ROUND(U8,-3) -> 24000 | W8: 28949 | X8: =ROUND(W8,-3) -> 29000 | Y8: 28715 | Z8: =ROUND(Y8,-3) -> 29000 | AA8: 22761 | AB8: =ROUND(AA8,-3) -> 23000 | AE8: 14015
C9: エコキュートSシリーズ | E9: 53237 | F9: 53000 | G9: 43842 | H9: 44000
C10: エコキュートVシリーズ | AC10: 15228 | AD10: 15000
A11: 370Lタンク | B11: 2 | C11: ガス給湯器(都市ガス) | E11: 102236 | F11: =ROUND(E11,-3) -> 102000 | G11: 89178 | H11: =ROUND(G11,-3) -> 89000 | I11: 89178 | J11: =ROUND(I11,-3) -> 89000 | K11: 69898 | L11: =ROUND(K11,-3) -> 70000 | N11: =ROUND(M11,-3) -> 0 | O11: 99040 | P11: =ROUND(O11,-3) -> 99000 | Q11: 81375 | R11: =ROUND(Q11,-3) -> 81000 | U11: 70580 | V11: =ROUND(U11,-3) -> 71000 | W11: 95581 | X11: =ROUND(W11,-3) -> 96000 | Y11: 95301 | Z11: =ROUND(Y11,-3) -> 95000 | AA11: 93246 | AB11: =ROUND(AA11,-3) -> 93000 | AC11: 72731 | AD11: =ROUND(AC11,-3) -> 73000 | AE11: 79367
A12: 320L | B12: 3 | C12: ガス給湯器(ＬＰガス) | E12: 189538 | F12: =ROUND(E12,-3) -> 190000 | G12: 157760 | H12: =ROUND(G12,-3) -> 158000 | I12: 157760 | J12: =ROUND(I12,-3) -> 158000 | K12: 122388 | L12: =ROUND(K12,-3) -> 122000 | N12: =ROUND(M12,-3) -> 0 | O12: 134214 | P12: =ROUND(O12,-3) -> 134000 | Q12: 125725 | R12: =ROUND(Q12,-3) -> 126000 | U12: 113464 | V12: =ROUND(U12,-3) -> 113000 | W12: 129485 | X12: =ROUND(W12,-3) -> 129000 | Y12: 115048 | Z12: =ROUND(Y12,-3) -> 115000 | AA12: 114090 | AB12: =ROUND(AA12,-3) -> 114000 | AC12: 88624 | AD12: =ROUND(AC12,-3) -> 89000 | AE12: 96656
B13: 4 | C13: エコジョーズ(都市ガス) | E13: 86270 | F13: =ROUND(E13,-3) -> 86000 | G13: 74503 | H13: =ROUND(G13,-3) -> 75000 | I13: 74503 | J13: =ROUND(I13,-3) -> 75000 | K13: 57169 | L13: =ROUND(K13,-3) -> 57000 | N13: =ROUND(M13,-3) -> 0 | O13: 83678 | P13: =ROUND(O13,-3) -> 84000 | Q13: 67445 | R13: =ROUND(Q13,-3) -> 67000 | U13: 59834 | V13: =ROUND(U13,-3) -> 60000 | W13: 80457 | X13: =ROUND(W13,-3) -> 80000 | Y13: 82032 | Z13: =ROUND(Y13,-3) -> 82000 | AA13: 77212 | AB13: =ROUND(AA13,-3) -> 77000 | AC13: 56187 | AD13: =ROUND(AC13,-3) -> 56000 | AE13: 61715
B14: 5 | C14: エコジョーズ(ＬＰガス) | E14: 159249 | F14: =ROUND(E14,-3) -> 159000 | G14: 132709 | H14: =ROUND(G14,-3) -> 133000 | I14: 132709 | J14: =ROUND(I14,-3) -> 133000 | K14: 103261 | L14: =ROUND(K14,-3) -> 103000 | N14: =ROUND(M14,-3) -> 0 | O14: 113232 | P14: =ROUND(O14,-3) -> 113000 | Q14: 106138 | R14: =ROUND(Q14,-3) -> 106000 | U14: 95936 | V14: =ROUND(U14,-3) -> 96000 | W14: 109354 | X14: =ROUND(W14,-3) -> 109000 | Y14: 97357 | Z14: =ROUND(Y14,-3) -> 97000 | AA14: 96411 | AB14: =ROUND(AA14,-3) -> 96000 | AC14: 74780 | AD14: =ROUND(AC14,-3) -> 75000 | AE14: 81706
A15: 3人 | B15: 1 | C15: エコキュートＰシリーズ | I15: 46748 | J15: =ROUND(I15,-3) -> 47000 | K15: 35720 | L15: =ROUND(K15,-3) -> 36000 | N15: =ROUND(M15,-3) -> 0 | O15: 35240 | P15: =ROUND(O15,-3) -> 35000 | Q15: 34207 | R15: =ROUND(Q15,-3) -> 34000 | U15: 28515 | V15: =ROUND(U15,-3) -> 29000 | W15: 34346 | X15: =ROUND(W15,-3) -> 34000 | Y15: 34068 | Z15: =ROUND(Y15,-3) -> 34000 | AA15: 26984 | AB15: =ROUND(AA15,-3) -> 27000 | AE15: 16628
C16: エコキュートSシリーズ | E16: 63026 | F16: 63000 | G16: 51869 | H16: 52000
C17: エコキュートVシリーズ | AC17: 18347 | AD17: 18000
A18: 370Lタンク | B18: 2 | C18: ガス給湯器(都市ガス) | E18: 120102 | F18: =ROUND(E18,-3) -> 120000 | G18: 105645 | H18: =ROUND(G18,-3) -> 106000 | I18: 105645 | J18: =ROUND(I18,-3) -> 106000 | K18: 82141 | L18: =ROUND(K18,-3) -> 82000 | N18: =ROUND(M18,-3) -> 0 | O18: 116077 | P18: =ROUND(O18,-3) -> 116000 | Q18: 94953 | R18: =ROUND(Q18,-3) -> 95000 | U18: 82442 | V18: =ROUND(U18,-3) -> 82000 | W18: 112396 | X18: =ROUND(W18,-3) -> 112000 | Y18: 109742 | Z18: =ROUND(Y18,-3) -> 110000 | AA18: 109290 | AB18: =ROUND(AA18,-3) -> 109000 | AC18: 86493 | AD18: =ROUND(AC18,-3) -> 86000 | AE18: 93050
A19: 390L | B19: 3 | C19: ガス給湯器(ＬＰガス) | E19: 223482 | F19: =ROUND(E19,-3) -> 223000 | G19: 185795 | H19: =ROUND(G19,-3) -> 186000 | I19: 185795 | J19: =ROUND(I19,-3) -> 186000 | K19: 143743 | L19: =ROUND(K19,-3) -> 144000 | N19: =ROUND(M19,-3) -> 0 | O19: 157502 | P19: =ROUND(O19,-3) -> 158000 | Q19: 147466 | R19: =ROUND(Q19,-3) -> 147000 | U19: 132835 | V19: =ROUND(U19,-3) -> 133000 | W19: 151837 | X19: =ROUND(W19,-3) -> 152000 | Y19: 134491 | Z19: =ROUND(Y19,-3) -> 134000 | AA19: 133701 | AB19: =ROUND(AA19,-3) -> 134000 | AC19: 105275 | AD19: =ROUND(AC19,-3) -> 105000 | AE19: 113205
B20: 4 | C20: エコジョーズ(都市ガス) | E20: 101066 | F20: =ROUND(E20,-3) -> 101000 | G20: 88092 | H20: =ROUND(G20,-3) -> 88000 | I20: 88092 | J20: =ROUND(I20,-3) -> 88000 | K20: 67019 | L20: =ROUND(K20,-3) -> 67000 | N20: =ROUND(M20,-3) -> 0 | O20: 97819 | P20: =ROUND(O20,-3) -> 98000 | Q20: 78464 | R20: =ROUND(Q20,-3) -> 78000 | U20: 69707 | V20: =ROUND(U20,-3) -> 70000 | W20: 94392 | X20: =ROUND(W20,-3) -> 94000 | Y20: 94162 | Z20: =ROUND(Y20,-3) -> 94000 | AA20: 90266 | AB20: =ROUND(AA20,-3) -> 90000 | AC20: 67294 | AD20: =ROUND(AC20,-3) -> 67000 | AE20: 72770
B21: 5 | C21: エコジョーズ(ＬＰガス) | E21: 187315 | F21: =ROUND(E21,-3) -> 187000 | G21: 155911 | H21: =ROUND(G21,-3) -> 156000 | I21: 155911 | J21: =ROUND(I21,-3) -> 156000 | K21: 120980 | L21: =ROUND(K21,-3) -> 121000 | N21: =ROUND(M21,-3) -> 0 | O21: 132546 | P21: =ROUND(O21,-3) -> 133000 | Q21: 124176 | R21: =ROUND(Q21,-3) -> 124000 | U21: 112035 | V21: =ROUND(U21,-3) -> 112000 | W21: 127907 | X21: =ROUND(W21,-3) -> 128000 | Y21: 113521 | Z21: =ROUND(Y21,-3) -> 114000 | AA21: 112701 | AB21: =ROUND(AA21,-3) -> 113000 | AC21: 88675 | AD21: =ROUND(AC21,-3) -> 89000 | AE21: 95486
A22: 4人 | B22: 1 | C22: エコキュートＰシリーズ | I22: 53951 | J22: =ROUND(I22,-3) -> 54000 | K22: 41265 | L22: =ROUND(K22,-3) -> 41000 | N22: =ROUND(M22,-3) -> 0 | O22: 40737 | P22: =ROUND(O22,-3) -> 41000 | Q22: 39547 | R22: =ROUND(Q22,-3) -> 40000 | U22: 32938 | V22: =ROUND(U22,-3) -> 33000 | W22: 39714 | X22: =ROUND(W22,-3) -> 40000 | Y22: 39410 | Z22: =ROUND(Y22,-3) -> 39000 | AA22: 31185 | AB22: =ROUND(AA22,-3) -> 31000 | AE22: 21447
C23: エコキュートSシリーズ | E23: 72732 | F23: =ROUND(E23,-3) -> 73000 | G23: 59815 | H23: =ROUND(G23,-3) -> 60000 | I23: 59391 | J23: =ROUND(I23,-3) -> 59000 | K23: 45459 | L23: =ROUND(K23,-3) -> 45000 | M23: 57080 | N23: =ROUND(M23,-3) -> 57000 | O23: 45047 | P23: =ROUND(O23,-3) -> 45000 | Q23: 43613 | R23: =ROUND(Q23,-3) -> 44000 | S23: 47879 | T23: =ROUND(S23,-3) -> 48000 | U23: 36306 | V23: =ROUND(U23,-3) -> 36000 | W23: 43799 | X23: =ROUND(W23,-3) -> 44000 | Y23: 43512 | Z23: =ROUND(Y23,-3) -> 44000 | AA23: 34380 | AB23: =ROUND(AA23,-3) -> 34000
C24: エコキュートVシリーズ | E24: 77562 | F24: =ROUND(E24,-3) -> 78000 | G24: 63767 | H24: =ROUND(G24,-3) -> 64000 | I24: 64259 | J24: =ROUND(I24,-3) -> 64000 | K24: 49217 | L24: =ROUND(K24,-3) -> 49000 | M24: 60867 | N24: =ROUND(M24,-3) -> 61000 | O24: 48680 | P24: =ROUND(O24,-3) -> 49000 | Q24: 47264 | R24: =ROUND(Q24,-3) -> 47000 | S24: 51104 | T24: =ROUND(S24,-3) -> 51000 | U24: 39328 | V24: =ROUND(U24,-3) -> 39000 | W24: 47469 | X24: =ROUND(W24,-3) -> 47000 | Y24: 47200 | Z24: =ROUND(Y24,-3) -> 47000 | AA24: 37249 | AB24: =ROUND(AA24,-3) -> 37000 | AC24: 21447 | AD24: 21000
B25: 2 | C25: 電気温水器 | E25: 259165 | F25: =ROUND(E25,-3) -> 259000 | G25: 236495 | H25: =ROUND(G25,-3) -> 236000 | I25: 236495 | J25: =ROUND(I25,-3) -> 236000 | K25: 197479 | L25: =ROUND(K25,-3) -> 197000 | M25: 217049 | N25: =ROUND(M25,-3) -> 217000 | O25: 182504 | P25: =ROUND(O25,-3) -> 183000 | Q25: 169636 | R25: =ROUND(Q25,-3) -> 170000 | S25: 176118 | T25: =ROUND(S25,-3) -> 176000 | U25: 154342 | V25: =ROUND(U25,-3) -> 154000 | W25: 186275 | X25: =ROUND(W25,-3) -> 186000 | Y25: 186177 | Z25: =ROUND(Y25,-3) -> 186000 | AA25: 144148 | AB25: =ROUND(AA25,-3) -> 144000 | AC25: 92712 | AD25: 21000
A26: 370Lタンク | B26: 3 | C26: ガス給湯器(都市ガス) | E26: 137866 | F26: =ROUND(E26,-3) -> 138000 | G26: 122054 | H26: =ROUND(G26,-3) -> 122000 | I26: 122054 | J26: =ROUND(I26,-3) -> 122000 | K26: 94300 | L26: =ROUND(K26,-3) -> 94000 | M26: 102446 | N26: =ROUND(M26,-3) -> 102000 | O26: 132992 | P26: =ROUND(O26,-3) -> 133000 | Q26: 108410 | R26: =ROUND(Q26,-3) -> 108000 | S26: 112159 | T26: =ROUND(S26,-3) -> 112000 | U26: 94196 | V26: =ROUND(U26,-3) -> 94000 | W26: 129105 | X26: =ROUND(W26,-3) -> 129000 | Y26: 123956 | Z26: =ROUND(Y26,-3) -> 124000 | AA26: 125205 | AB26: =ROUND(AA26,-3) -> 125000 | AC26: 100103 | AD26: =ROUND(AC26,-3) -> 100000 | AE26: 100103
A27: 460L | B27: 4 | C27: ガス給湯器(ＬＰガス) | E27: 257274 | F27: =ROUND(E27,-3) -> 257000 | G27: 213683 | H27: =ROUND(G27,-3) -> 214000 | I27: 213683 | J27: =ROUND(I27,-3) -> 214000 | K27: 164948 | L27: =ROUND(K27,-3) -> 165000 | M27: 179157 | N27: =ROUND(M27,-3) -> 179000 | O27: 180637 | P27: =ROUND(O27,-3) -> 181000 | Q27: 169053 | R27: =ROUND(Q27,-3) -> 169000 | S27: 175084 | T27: =ROUND(S27,-3) -> 175000 | U27: 152044 | V27: =ROUND(U27,-3) -> 152000 | W27: 174024 | X27: =ROUND(W27,-3) -> 174000 | Y27: 153769 | Z27: =ROUND(Y27,-3) -> 154000 | AA27: 153158 | AB27: =ROUND(AA27,-3) -> 153000 | AC27: 121733 | AD27: =ROUND(AC27,-3) -> 122000 | AE27: 121733
B28: 5 | C28: エコジョーズ(都市ガス) | E28: 115749 | F28: =ROUND(E28,-3) -> 116000 | G28: 101623 | H28: =ROUND(G28,-3) -> 102000 | I28: 101623 | J28: =ROUND(I28,-3) -> 102000 | K28: 76781 | L28: =ROUND(K28,-3) -> 77000 | M28: 83351 | N28: =ROUND(M28,-3) -> 83000 | O28: 111826 | P28: =ROUND(O28,-3) -> 112000 | Q28: 89352 | R28: =ROUND(Q28,-3) -> 89000 | S28: 92390 | T28: =ROUND(S28,-3) -> 92000 | U28: 79465 | V28: =ROUND(U28,-3) -> 79000 | W28: 108215 | X28: =ROUND(W28,-3) -> 108000 | Y28: 106054 | Z28: =ROUND(Y28,-3) -> 106000 | AA28: 103196 | AB28: =ROUND(AA28,-3) -> 103000 | AC28: 78308 | AD28: =ROUND(AC28,-3) -> 78000 | AE28: 83746
B29: 6 | C29: エコジョーズ(ＬＰガス) | E29: 215210 | F29: =ROUND(E29,-3) -> 215000 | G29: 178952 | H29: =ROUND(G29,-3) -> 179000 | I29: 178952 | J29: =ROUND(I29,-3) -> 179000 | K29: 138535 | L29: =ROUND(K29,-3) -> 139000 | M29: 150349 | N29: =ROUND(M29,-3) -> 150000 | O29: 151692 | P29: =ROUND(O29,-3) -> 152000 | Q29: 142049 | R29: =ROUND(Q29,-3) -> 142000 | S29: 147053 | T29: =ROUND(S29,-3) -> 147000 | U29: 127965 | V29: =ROUND(U29,-3) -> 128000 | W29: 146284 | X29: =ROUND(W29,-3) -> 146000 | Y29: 129512 | Z29: =ROUND(Y29,-3) -> 130000 | AA29: 128825 | AB29: =ROUND(AA29,-3) -> 129000 | AC29: 102361 | AD29: =ROUND(AC29,-3) -> 102000 | AE29: 109100
B30: 7 | C30: 灯油 | E30: 88459 | F30: =ROUND(E30,-3) -> 88000 | G30: 80235 | H30: =ROUND(G30,-3) -> 80000 | I30: 80235 | J30: =ROUND(I30,-3) -> 80000 | K30: 75449 | L30: =ROUND(K30,-3) -> 75000 | M30: 82802 | N30: =ROUND(M30,-3) -> 83000 | O30: 74765 | P30: =ROUND(O30,-3) -> 75000 | Q30: 74270 | R30: =ROUND(Q30,-3) -> 74000 | S30: 77267 | T30: =ROUND(S30,-3) -> 77000 | U30: 67656 | V30: =ROUND(U30,-3) -> 68000 | W30: 75612 | X30: =ROUND(W30,-3) -> 76000 | Y30: 69740 | Z30: =ROUND(Y30,-3) -> 70000 | AA30: 70886 | AB30: =ROUND(AA30,-3) -> 71000 | AC30: 53968 | AD30: =ROUND(AC30,-3) -> 54000
A31: 5人 | B31: 1 | C31: エコキュートＰシリーズ | I31: 64005 | J31: =ROUND(I31,-3) -> 64000 | K31: 49019 | L31: =ROUND(K31,-3) -> 49000 | N31: =ROUND(M31,-3) -> 0 | O31: 48452 | P31: =ROUND(O31,-3) -> 48000 | Q31: 47046 | R31: =ROUND(Q31,-3) -> 47000 | U31: 39142 | V31: =ROUND(U31,-3) -> 39000 | W31: 47254 | X31: =ROUND(W31,-3) -> 47000 | Y31: 46948 | Z31: =ROUND(Y31,-3) -> 47000 | AA31: 37080 | AB31: =ROUND(AA31,-3) -> 37000 | AE31: 22871
C32: エコキュートSシリーズ | E32: 82340 | F32: 82000 | G32: 67672 | H32: 68000 | I32: 67226 | J32: =ROUND(I32,-3) -> 67000 | K32: 51507 | L32: =ROUND(K32,-3) -> 52000 | M32: 64558 | N32: =ROUND(M32,-3) -> 65000 | O32: 50941 | P32: =ROUND(O32,-3) -> 51000 | Q32: 49463 | R32: =ROUND(Q32,-3) -> 49000 | S32: 54255 | T32: =ROUND(S32,-3) -> 54000 | U32: 41142 | V32: =ROUND(U32,-3) -> 41000 | W32: 49685 | X32: =ROUND(W32,-3) -> 50000 | Y32: 49391 | Z32: =ROUND(Y32,-3) -> 49000 | AA32: 38977 | AB32: =ROUND(AA32,-3) -> 39000
C33: エコキュートVシリーズ | E33: 87775 | F33: =ROUND(E33,-3) -> 88000 | G33: 72115 | H33: =ROUND(G33,-3) -> 72000 | I33: 72738 | J33: =ROUND(I33,-3) -> 73000 | K33: 55767 | L33: =ROUND(K33,-3) -> 56000 | M33: 68812 | N33: =ROUND(M33,-3) -> 69000 | O33: 55207 | P33: =ROUND(O33,-3) -> 55000 | Q33: 53610 | R33: =ROUND(Q33,-3) -> 54000 | S33: 57896 | T33: =ROUND(S33,-3) -> 58000 | U33: 44567 | V33: =ROUND(U33,-3) -> 45000 | W33: 53853 | X33: =ROUND(W33,-3) -> 54000 | Y33: 53586 | Z33: =ROUND(Y33,-3) -> 54000 | AA33: 42232 | AB33: =ROUND(AA33,-3) -> 42000 | AC33: 24534 | AD33: 25000
B34: 2 | C34: 電気温水器 | E34: 322506 | F34: =ROUND(E34,-3) -> 323000 | G34: 293879 | H34: =ROUND(G34,-3) -> 294000 | I34: 293879 | J34: =ROUND(I34,-3) -> 294000 | K34: 246996 | L34: =ROUND(K34,-3) -> 247000 | M34: 271169 | N34: =ROUND(M34,-3) -> 271000 | O34: 228057 | P34: =ROUND(O34,-3) -> 228000 | Q34: 212174 | R34: =ROUND(Q34,-3) -> 212000 | S34: 220227 | T34: =ROUND(S34,-3) -> 220000 | U34: 192545 | V34: =ROUND(U34,-3) -> 193000 | W34: 233032 | X34: =ROUND(W34,-3) -> 233000 | Y34: 233770 | Z34: =ROUND(Y34,-3) -> 234000 | AA34: 180009 | AB34: =ROUND(AA34,-3) -> 180000 | AC34: 116722 | AD34: 25000
A35: 460Lタンク | B35: 3 | C35: ガス給湯器(都市ガス) | E35: 155565 | F35: =ROUND(E35,-3) -> 156000 | G35: 138428 | H35: =ROUND(G35,-3) -> 138000 | I35: 138428 | J35: =ROUND(I35,-3) -> 138000 | K35: 106402 | L35: =ROUND(K35,-3) -> 106000 | M35: 115564 | N35: =ROUND(M35,-3) -> 116000 | O35: 149825 | P35: =ROUND(O35,-3) -> 150000 | Q35: 121779 | R35: =ROUND(Q35,-3) -> 122000 | S35: 126012 | T35: =ROUND(S35,-3) -> 126000 | U35: 105874 | V35: =ROUND(U35,-3) -> 106000 | W35: 145746 | X35: =ROUND(W35,-3) -> 146000 | Y35: 138021 | Z35: =ROUND(Y35,-3) -> 138000 | AA35: 141039 | AB35: =ROUND(AA35,-3) -> 141000 | AC35: 113612 | AD35: =ROUND(AC35,-3) -> 114000 | AE35: 120074
A36: 530L | B36: 4 | C36: ガス給湯器(ＬＰガス) | E36: 290962 | F36: =ROUND(E36,-3) -> 291000 | G36: 241472 | H36: =ROUND(G36,-3) -> 241000 | I36: 241472 | J36: =ROUND(I36,-3) -> 241000 | K36: 186053 | L36: =ROUND(K36,-3) -> 186000 | M36: 202028 | N36: =ROUND(M36,-3) -> 202000 | O36: 203664 | P36: =ROUND(O36,-3) -> 204000 | Q36: 190534 | R36: =ROUND(Q36,-3) -> 191000 | S36: 197346 | T36: =ROUND(S36,-3) -> 197000 | U36: 171146 | V36: =ROUND(U36,-3) -> 171000 | W36: 196100 | X36: =ROUND(W36,-3) -> 196000 | Y36: 172939 | Z36: =ROUND(Y36,-3) -> 173000 | AA36: 172511 | AB36: =ROUND(AA36,-3) -> 173000 | AC36: 138062 | AD36: =ROUND(AC36,-3) -> 138000 | AE36: 145875
B37: 5 | C37: エコジョーズ(都市ガス) | E37: 130359 | F37: =ROUND(E37,-3) -> 130000 | G37: 115108 | H37: =ROUND(G37,-3) -> 115000 | I37: 115108 | J37: =ROUND(I37,-3) -> 115000 | K37: 86485 | L37: =ROUND(K37,-3) -> 86000 | M37: 93856 | N37: =ROUND(M37,-3) -> 94000 | O37: 125745 | P37: =ROUND(O37,-3) -> 126000 | Q37: 100149 | R37: =ROUND(Q37,-3) -> 100000 | S37: 103572 | T37: =ROUND(S37,-3) -> 104000 | U37: 89140 | V37: =ROUND(U37,-3) -> 89000 | W37: 121961 | X37: =ROUND(W37,-3) -> 122000 | Y37: 117779 | Z37: =ROUND(Y37,-3) -> 118000 | AA37: 116032 | AB37: =ROUND(AA37,-3) -> 116000 | AC37: 89252 | AD37: =ROUND(AC37,-3) -> 89000 | AE37: 94666
B38: 6 | C38: エコジョーズ(ＬＰガス) | E38: 242990 | F38: =ROUND(E38,-3) -> 243000 | G38: 201883 | H38: =ROUND(G38,-3) -> 202000 | I38: 201883 | J38: =ROUND(I38,-3) -> 202000 | K38: 155982 | L38: =ROUND(K38,-3) -> 156000 | M38: 169238 | N38: =ROUND(M38,-3) -> 169000 | O38: 170723 | P38: =ROUND(O38,-3) -> 171000 | Q38: 159808 | R38: =ROUND(Q38,-3) -> 160000 | S38: 165450 | T38: =ROUND(S38,-3) -> 165000 | U38: 143777 | V38: =ROUND(U38,-3) -> 144000 | W38: 164539 | X38: =ROUND(W38,-3) -> 165000 | Y38: 145381 | Z38: =ROUND(Y38,-3) -> 145000 | AA38: 144837 | AB38: =ROUND(AA38,-3) -> 145000 | AC38: 115913 | AD38: =ROUND(AC38,-3) -> 116000 | AE38: 122598
B39: 7 | C39: 灯油 | E39: 100877 | F39: =ROUND(E39,-3) -> 101000 | G39: 91492 | H39: =ROUND(G39,-3) -> 91000 | I39: 91492 | J39: =ROUND(I39,-3) -> 91000 | K39: 86037 | L39: =ROUND(K39,-3) -> 86000 | M39: 94307 | N39: =ROUND(M39,-3) -> 94000 | O39: 85190 | P39: =ROUND(O39,-3) -> 85000 | Q39: 84630 | R39: =ROUND(Q39,-3) -> 85000 | S39: 88014 | T39: =ROUND(S39,-3) -> 88000 | U39: 77070 | V39: =ROUND(U39,-3) -> 77000 | W39: 86166 | X39: =ROUND(W39,-3) -> 86000 | Y39: 79391 | Z39: =ROUND(Y39,-3) -> 79000 | AA39: 80779 | AB39: =ROUND(AA39,-3) -> 81000 | AC39: 62182 | AD39: =ROUND(AC39,-3) -> 62000
A40: 6人 | B40: 1 | C40: エコキュートＰシリーズ | I40: 88192 | J40: =ROUND(I40,-3) -> 88000 | K40: 67735 | L40: =ROUND(K40,-3) -> 68000 | N40: =ROUND(M40,-3) -> 0 | O40: 67191 | P40: =ROUND(O40,-3) -> 67000 | Q40: 65265 | R40: =ROUND(Q40,-3) -> 65000 | T40: =ROUND(S40,-3) -> 0 | U40: 54180 | V40: =ROUND(U40,-3) -> 54000 | W40: 65571 | X40: =ROUND(W40,-3) -> 66000 | Y40: 65379 | Z40: =ROUND(Y40,-3) -> 65000 | AA40: 51371 | AB40: =ROUND(AA40,-3) -> 51000 | AE40: 31719
C41: エコキュートSシリーズ | E41: 101243 | F41: 101000 | G41: 83113 | H41: 83000
C42: エコキュートVシリーズ | AC42: 30056 | AD42: 30000
A43: 550Lタンク | B43: 2 | C43: ガス給湯器(都市ガス) | E43: 173214 | F43: =ROUND(E43,-3) -> 173000 | G43: 154774 | H43: =ROUND(G43,-3) -> 155000 | I43: 154774 | J43: =ROUND(I43,-3) -> 155000 | K43: 118466 | L43: =ROUND(K43,-3) -> 118000 | N43: =ROUND(M43,-3) -> 0 | O43: 166600 | P43: =ROUND(O43,-3) -> 167000 | Q43: 135094 | R43: =ROUND(Q43,-3) -> 135000 | T43: =ROUND(S43,-3) -> 0 | U43: 117499 | V43: =ROUND(U43,-3) -> 117000 | W43: 162335 | X43: =ROUND(W43,-3) -> 162000 | Y43: 151976 | Z43: =ROUND(Y43,-3) -> 152000 | AA43: 156813 | AB43: =ROUND(AA43,-3) -> 157000 | AC43: 127045 | AD43: =ROUND(AC43,-3) -> 127000 | AE43: 133482
A44: 600L | B44: 3 | C44: ガス給湯器(ＬＰガス) | E44: 324578 | F44: =ROUND(E44,-3) -> 325000 | G44: 269193 | H44: =ROUND(G44,-3) -> 269000 | I44: 269193 | J44: =ROUND(I44,-3) -> 269000 | K44: 207087 | L44: =ROUND(K44,-3) -> 207000 | N44: =ROUND(M44,-3) -> 0 | O44: 226619 | P44: =ROUND(O44,-3) -> 227000 | Q44: 211945 | R44: =ROUND(Q44,-3) -> 212000 | T44: =ROUND(S44,-3) -> 0 | U44: 190174 | V44: =ROUND(U44,-3) -> 190000 | W44: 218096 | X44: =ROUND(W44,-3) -> 218000 | Y44: 192028 | Z44: =ROUND(Y44,-3) -> 192000 | AA44: 191792 | AB44: =ROUND(AA44,-3) -> 192000 | AC44: 154296 | AD44: =ROUND(AC44,-3) -> 154000 | AE44: 162073
B45: 4 | C45: エコジョーズ(都市ガス) | E45: 144915 | F45: =ROUND(E45,-3) -> 145000 | G45: 128564 | H45: =ROUND(G45,-3) -> 129000 | I45: 128564 | J45: =ROUND(I45,-3) -> 129000 | K45: 96142 | L45: =ROUND(K45,-3) -> 96000 | N45: =ROUND(M45,-3) -> 0 | O45: 139598 | P45: =ROUND(O45,-3) -> 140000 | Q45: 110883 | R45: =ROUND(Q45,-3) -> 111000 | T45: =ROUND(S45,-3) -> 0 | U45: 98757 | V45: =ROUND(U45,-3) -> 99000 | W45: 135652 | X45: =ROUND(W45,-3) -> 136000 | Y45: 129388 | Z45: =ROUND(Y45,-3) -> 129000 | AA45: 128803 | AB45: =ROUND(AA45,-3) -> 129000 | AC45: 100147 | AD45: =ROUND(AC45,-3) -> 100000 | AE45: 105543
B46: 5 | C46: エコジョーズ(ＬＰガス) | E46: 270688 | F46: =ROUND(E46,-3) -> 271000 | G46: 224736 | H46: =ROUND(G46,-3) -> 225000 | I46: 224736 | J46: =ROUND(I46,-3) -> 225000 | K46: 173348 | L46: =ROUND(K46,-3) -> 173000 | N46: =ROUND(M46,-3) -> 0 | O46: 189670 | P46: =ROUND(O46,-3) -> 190000 | Q46: 177488 | R46: =ROUND(Q46,-3) -> 177000 | T46: =ROUND(S46,-3) -> 0 | U46: 159504 | V46: =ROUND(U46,-3) -> 160000 | W46: 182708 | X46: =ROUND(W46,-3) -> 183000 | Y46: 161164 | Z46: =ROUND(Y46,-3) -> 161000 | AA46: 160769 | AB46: =ROUND(AA46,-3) -> 161000 | AC46: 129360 | AD46: =ROUND(AC46,-3) -> 129000 | AE46: 136005
A47: 7人 | B47: 1 | C47: エコキュートＰシリーズ | I47: 97173 | J47: =ROUND(I47,-3) -> 97000 | K47: 74700 | L47: =ROUND(K47,-3) -> 75000 | N47: =ROUND(M47,-3) -> 0 | O47: 74178 | P47: =ROUND(O47,-3) -> 74000 | Q47: 72063 | R47: =ROUND(Q47,-3) -> 72000 | T47: =ROUND(S47,-3) -> 0 | U47: 59775 | V47: =ROUND(U47,-3) -> 60000 | W47: 72409 | X47: =ROUND(W47,-3) -> 72000 | Y47: 72263 | Z47: =ROUND(Y47,-3) -> 72000 | AA47: 56699 | AB47: =ROUND(AA47,-3) -> 57000 | AE47: 35018
C48: エコキュートSシリーズ | E48: 111632 | F48: 112000 | G48: 91582 | H48: 92000
C49: エコキュートVシリーズ | AC49: 33357 | AD49: 33000
A50: 550Lタンク | B50: 2 | C50: ガス給湯器(都市ガス) | E50: 190830 | F50: =ROUND(E50,-3) -> 191000 | G50: 171098 | H50: =ROUND(G50,-3) -> 171000 | I50: 171098 | J50: =ROUND(I50,-3) -> 171000 | K50: 130499 | L50: =ROUND(K50,-3) -> 130000 | N50: =ROUND(M50,-3) -> 0 | O50: 183332 | P50: =ROUND(O50,-3) -> 183000 | Q50: 148362 | R50: =ROUND(Q50,-3) -> 148000 | T50: =ROUND(S50,-3) -> 0 | U50: 129085 | V50: =ROUND(U50,-3) -> 129000 | W50: 178886 | X50: =ROUND(W50,-3) -> 179000 | Y50: 165853 | Z50: =ROUND(Y50,-3) -> 166000 | AA50: 172538 | AB50: =ROUND(AA50,-3) -> 173000 | AC50: 140423 | AD50: =ROUND(AC50,-3) -> 140000 | AE50: 146841
A51: 670L | B51: 3 | C51: ガス給湯器(ＬＰガス) | E51: 358142 | F51: =ROUND(E51,-3) -> 358000 | G51: 296859 | H51: =ROUND(G51,-3) -> 297000 | I51: 296859 | J51: =ROUND(I51,-3) -> 297000 | K51: 228068 | L51: =ROUND(K51,-3) -> 228000 | N51: =ROUND(M51,-3) -> 0 | O51: 249513 | P51: =ROUND(O51,-3) -> 250000 | Q51: 233302 | R51: =ROUND(Q51,-3) -> 233000 | T51: =ROUND(S51,-3) -> 0 | U51: 209140 | V51: =ROUND(U51,-3) -> 209000 | W51: 240036 | X51: =ROUND(W51,-3) -> 240000 | Y51: 211059 | Z51: =ROUND(Y51,-3) -> 211000 | AA51: 211015 | AB51: =ROUND(AA51,-3) -> 211000 | AC51: 170461 | AD51: =ROUND(AC51,-3) -> 170000 | AE51: 178212
B52: 4 | C52: エコジョーズ(都市ガス) | E52: 159431 | F52: =ROUND(E52,-3) -> 159000 | G52: 141999 | H52: =ROUND(G52,-3) -> 142000 | I52: 141999 | J52: =ROUND(I52,-3) -> 142000 | K52: 105770 | L52: =ROUND(K52,-3) -> 106000 | N52: =ROUND(M52,-3) -> 0 | O52: 153401 | P52: =ROUND(O52,-3) -> 153000 | Q52: 121569 | R52: =ROUND(Q52,-3) -> 122000 | T52: =ROUND(S52,-3) -> 0 | U52: 108332 | V52: =ROUND(U52,-3) -> 108000 | W52: 149300 | X52: =ROUND(W52,-3) -> 149000 | Y52: 140906 | Z52: =ROUND(Y52,-3) -> 141000 | AA52: 141524 | AB52: =ROUND(AA52,-3) -> 142000 | AC52: 111008 | AD52: =ROUND(AC52,-3) -> 111000 | AE52: 116387
B53: 5 | C53: エコジョーズ(ＬＰガス) | E53: 298327 | F53: =ROUND(E53,-3) -> 298000 | G53: 247534 | H53: =ROUND(G53,-3) -> 248000 | I53: 247534 | J53: =ROUND(I53,-3) -> 248000 | K53: 190657 | L53: =ROUND(K53,-3) -> 191000 | N53: =ROUND(M53,-3) -> 0 | O53: 208557 | P53: =ROUND(O53,-3) -> 209000 | Q53: 195106 | R53: =ROUND(Q53,-3) -> 195000 | T53: =ROUND(S53,-3) -> 0 | U53: 175167 | V53: =ROUND(U53,-3) -> 175000 | W53: 200811 | X53: =ROUND(W53,-3) -> 201000 | Y53: 176879 | Z53: =ROUND(Y53,-3) -> 177000 | AA53: 176638 | AB53: =ROUND(AA53,-3) -> 177000 | AC53: 142731 | AD53: =ROUND(AC53,-3) -> 143000 | AE53: 149346
A54: ★10年前★（P37もしくはPK37） | F54: =ROUND(E54,-3) -> 0 | H54: =ROUND(G54,-3) -> 0
A55: https://www.mitsubishielectric.co.jp/home/ecocute/introduction/renew.html#section02
A56: 2人 | B56: 1 | C56: エコキュートＰシリーズ | E56: 60867 | F56: =ROUND(E56,-3) -> 61000 | G56: 50105 | H56: =ROUND(G56,-3) -> 50000 | I56: 45821 | J56: =ROUND(I56,-3) -> 46000 | K56: 35010 | L56: =ROUND(K56,-3) -> 35000 | N56: =ROUND(M56,-3) -> 0 | O56: 34570 | P56: =ROUND(O56,-3) -> 35000 | Q56: 33551 | R56: =ROUND(Q56,-3) -> 34000 | T56: =ROUND(S56,-3) -> 0 | U56: 27982 | V56: =ROUND(U56,-3) -> 28000 | W56: 33683 | X56: =ROUND(W56,-3) -> 34000 | Y56: 33453 | Z56: =ROUND(Y56,-3) -> 33000 | AA56: 26467 | AB56: =ROUND(AA56,-3) -> 26000 | AD56: =ROUND(AC56,-3) -> 0 | AE56: 16307
A57: 370Lタンク | B57: 2 | C57: ガス給湯器(都市ガス) | F57: =ROUND(E57,-3) -> 0 | H57: =ROUND(G57,-3) -> 0 | J57: =ROUND(I57,-3) -> 0 | L57: =ROUND(K57,-3) -> 0 | N57: =ROUND(M57,-3) -> 0 | P57: =ROUND(O57,-3) -> 0 | R57: =ROUND(Q57,-3) -> 0 | T57: =ROUND(S57,-3) -> 0 | V57: =ROUND(U57,-3) -> 0 | X57: =ROUND(W57,-3) -> 0 | Z57: =ROUND(Y57,-3) -> 0 | AB57: =ROUND(AA57,-3) -> 0 | AD57: =ROUND(AC57,-3) -> 0
A58: 320L | B58: 3 | C58: ガス給湯器(ＬＰガス) | F58: =ROUND(E58,-3) -> 0 | H58: =ROUND(G58,-3) -> 0 | J58: =ROUND(I58,-3) -> 0 | L58: =ROUND(K58,-3) -> 0 | N58: =ROUND(M58,-3) -> 0 | P58: =ROUND(O58,-3) -> 0 | R58: =ROUND(Q58,-3) -> 0 | T58: =ROUND(S58,-3) -> 0 | V58: =ROUND(U58,-3) -> 0 | X58: =ROUND(W58,-3) -> 0 | Z58: =ROUND(Y58,-3) -> 0 | AB58: =ROUND(AA58,-3) -> 0 | AD58: =ROUND(AC58,-3) -> 0
B59: 4 | C59: エコジョーズ(都市ガス) | F59: =ROUND(E59,-3) -> 0 | H59: =ROUND(G59,-3) -> 0 | J59: =ROUND(I59,-3) -> 0 | L59: =ROUND(K59,-3) -> 0 | N59: =ROUND(M59,-3) -> 0 | P59: =ROUND(O59,-3) -> 0 | R59: =ROUND(Q59,-3) -> 0 | T59: =ROUND(S59,-3) -> 0 | V59: =ROUND(U59,-3) -> 0 | X59: =ROUND(W59,-3) -> 0 | Z59: =ROUND(Y59,-3) -> 0 | AB59: =ROUND(AA59,-3) -> 0 | AD59: =ROUND(AC59,-3) -> 0
B60: 5 | C60: エコジョーズ(ＬＰガス) | F60: =ROUND(E60,-3) -> 0 | H60: =ROUND(G60,-3) -> 0 | J60: =ROUND(I60,-3) -> 0 | L60: =ROUND(K60,-3) -> 0 | N60: =ROUND(M60,-3) -> 0 | P60: =ROUND(O60,-3) -> 0 | R60: =ROUND(Q60,-3) -> 0 | T60: =ROUND(S60,-3) -> 0 | V60: =ROUND(U60,-3) -> 0 | X60: =ROUND(W60,-3) -> 0 | Z60: =ROUND(Y60,-3) -> 0 | AB60: =ROUND(AA60,-3) -> 0 | AD60: =ROUND(AC60,-3) -> 0
A61: 3人 | B61: 1 | C61: エコキュートＰシリーズ | E61: 72024 | F61: =ROUND(E61,-3) -> 72000 | G61: 59240 | H61: =ROUND(G61,-3) -> 59000 | I61: 54228 | J61: =ROUND(I61,-3) -> 54000 | K61: 41480 | L61: =ROUND(K61,-3) -> 41000 | N61: =ROUND(M61,-3) -> 0 | O61: 40982 | P61: =ROUND(O61,-3) -> 41000 | Q61: 39783 | R61: =ROUND(Q61,-3) -> 40000 | T61: =ROUND(S61,-3) -> 0 | U61: 33141 | V61: =ROUND(U61,-3) -> 33000 | W61: 39948 | X61: =ROUND(W61,-3) -> 40000 | Y61: 39688 | Z61: =ROUND(Y61,-3) -> 40000 | AA61: 31369 | AB61: =ROUND(AA61,-3) -> 31000 | AD61: =ROUND(AC61,-3) -> 0 | AE61: 19338
A62: 370Lタンク | B62: 2 | C62: ガス給湯器(都市ガス) | F62: =ROUND(E62,-3) -> 0 | H62: =ROUND(G62,-3) -> 0 | J62: =ROUND(I62,-3) -> 0 | L62: =ROUND(K62,-3) -> 0 | N62: =ROUND(M62,-3) -> 0 | P62: =ROUND(O62,-3) -> 0 | R62: =ROUND(Q62,-3) -> 0 | T62: =ROUND(S62,-3) -> 0 | V62: =ROUND(U62,-3) -> 0 | X62: =ROUND(W62,-3) -> 0 | Z62: =ROUND(Y62,-3) -> 0 | AB62: =ROUND(AA62,-3) -> 0 | AD62: =ROUND(AC62,-3) -> 0
A63: 390L | B63: 3 | C63: ガス給湯器(ＬＰガス) | F63: =ROUND(E63,-3) -> 0 | H63: =ROUND(G63,-3) -> 0 | J63: =ROUND(I63,-3) -> 0 | L63: =ROUND(K63,-3) -> 0 | N63: =ROUND(M63,-3) -> 0 | P63: =ROUND(O63,-3) -> 0 | R63: =ROUND(Q63,-3) -> 0 | T63: =ROUND(S63,-3) -> 0 | V63: =ROUND(U63,-3) -> 0 | X63: =ROUND(W63,-3) -> 0 | Z63: =ROUND(Y63,-3) -> 0 | AB63: =ROUND(AA63,-3) -> 0 | AD63: =ROUND(AC63,-3) -> 0
B64: 4 | C64: エコジョーズ(都市ガス) | F64: =ROUND(E64,-3) -> 0 | H64: =ROUND(G64,-3) -> 0 | J64: =ROUND(I64,-3) -> 0 | L64: =ROUND(K64,-3) -> 0 | N64: =ROUND(M64,-3) -> 0 | P64: =ROUND(O64,-3) -> 0 | R64: =ROUND(Q64,-3) -> 0 | T64: =ROUND(S64,-3) -> 0 | V64: =ROUND(U64,-3) -> 0 | X64: =ROUND(W64,-3) -> 0 | Z64: =ROUND(Y64,-3) -> 0 | AB64: =ROUND(AA64,-3) -> 0 | AD64: =ROUND(AC64,-3) -> 0
B65: 5 | C65: エコジョーズ(ＬＰガス) | F65: =ROUND(E65,-3) -> 0 | H65: =ROUND(G65,-3) -> 0 | J65: =ROUND(I65,-3) -> 0 | L65: =ROUND(K65,-3) -> 0 | N65: =ROUND(M65,-3) -> 0 | P65: =ROUND(O65,-3) -> 0 | R65: =ROUND(Q65,-3) -> 0 | T65: =ROUND(S65,-3) -> 0 | V65: =ROUND(U65,-3) -> 0 | X65: =ROUND(W65,-3) -> 0 | Z65: =ROUND(Y65,-3) -> 0 | AB65: =ROUND(AA65,-3) -> 0 | AD65: =ROUND(AC65,-3) -> 0
A66: 4人 | B66: 1 | C66: エコキュートＰシリーズ | E66: 83084 | F66: =ROUND(E66,-3) -> 83000 | G66: 68281 | H66: =ROUND(G66,-3) -> 68000 | I66: 62549 | J66: =ROUND(I66,-3) -> 63000 | K66: 47898 | L66: =ROUND(K66,-3) -> 48000 | M66: 65193 | N66: =ROUND(M66,-3) -> 65000 | O66: 47360 | P66: =ROUND(O66,-3) -> 47000 | Q66: 45981 | R66: =ROUND(Q66,-3) -> 46000 | S66: 54796 | T66: =ROUND(S66,-3) -> 55000 | U66: 38268 | V66: =ROUND(U66,-3) -> 38000 | W66: 46181 | X66: =ROUND(W66,-3) -> 46000 | Y66: 45904 | Z66: =ROUND(Y66,-3) -> 46000 | AA66: 36242 | AB66: =ROUND(AA66,-3) -> 36000 | AD66: =ROUND(AC66,-3) -> 0 | AE66: 22351
A67: 370Lタンク | B67: 2 | C67: ガス給湯器(都市ガス) | F67: =ROUND(E67,-3) -> 0 | H67: =ROUND(G67,-3) -> 0 | J67: =ROUND(I67,-3) -> 0 | L67: =ROUND(K67,-3) -> 0 | N67: =ROUND(M67,-3) -> 0 | P67: =ROUND(O67,-3) -> 0 | R67: =ROUND(Q67,-3) -> 0 | T67: =ROUND(S67,-3) -> 0 | V67: =ROUND(U67,-3) -> 0 | X67: =ROUND(W67,-3) -> 0 | Z67: =ROUND(Y67,-3) -> 0 | AB67: =ROUND(AA67,-3) -> 0 | AD67: =ROUND(AC67,-3) -> 0
A68: 460L | B68: 3 | C68: ガス給湯器(ＬＰガス) | F68: =ROUND(E68,-3) -> 0 | H68: =ROUND(G68,-3) -> 0 | J68: =ROUND(I68,-3) -> 0 | L68: =ROUND(K68,-3) -> 0 | N68: =ROUND(M68,-3) -> 0 | P68: =ROUND(O68,-3) -> 0 | R68: =ROUND(Q68,-3) -> 0 | T68: =ROUND(S68,-3) -> 0 | V68: =ROUND(U68,-3) -> 0 | X68: =ROUND(W68,-3) -> 0 | Z68: =ROUND(Y68,-3) -> 0 | AB68: =ROUND(AA68,-3) -> 0 | AD68: =ROUND(AC68,-3) -> 0
B69: 4 | C69: エコジョーズ(都市ガス) | F69: =ROUND(E69,-3) -> 0 | H69: =ROUND(G69,-3) -> 0 | J69: =ROUND(I69,-3) -> 0 | L69: =ROUND(K69,-3) -> 0 | N69: =ROUND(M69,-3) -> 0 | P69: =ROUND(O69,-3) -> 0 | R69: =ROUND(Q69,-3) -> 0 | T69: =ROUND(S69,-3) -> 0 | V69: =ROUND(U69,-3) -> 0 | X69: =ROUND(W69,-3) -> 0 | Z69: =ROUND(Y69,-3) -> 0 | AB69: =ROUND(AA69,-3) -> 0 | AD69: =ROUND(AC69,-3) -> 0
B70: 5 | C70: エコジョーズ(ＬＰガス) | F70: =ROUND(E70,-3) -> 0 | H70: =ROUND(G70,-3) -> 0 | J70: =ROUND(I70,-3) -> 0 | L70: =ROUND(K70,-3) -> 0 | N70: =ROUND(M70,-3) -> 0 | P70: =ROUND(O70,-3) -> 0 | R70: =ROUND(Q70,-3) -> 0 | T70: =ROUND(S70,-3) -> 0 | V70: =ROUND(U70,-3) -> 0 | X70: =ROUND(W70,-3) -> 0 | Z70: =ROUND(Y70,-3) -> 0 | AB70: =ROUND(AA70,-3) -> 0 | AD70: =ROUND(AC70,-3) -> 0
A71: 5人 | B71: 1 | C71: エコキュートＰシリーズ | E71: 94013 | F71: =ROUND(E71,-3) -> 94000 | G71: 77215 | H71: =ROUND(G71,-3) -> 77000 | I71: 72738 | J71: =ROUND(I71,-3) -> 73000 | K71: 55766 | L71: =ROUND(K71,-3) -> 56000 | M71: 73700 | N71: =ROUND(M71,-3) -> 74000 | O71: 55207 | P71: =ROUND(O71,-3) -> 55000 | Q71: 53609 | R71: =ROUND(Q71,-3) -> 54000 | S71: 62080 | T71: =ROUND(S71,-3) -> 62000 | U71: 44567 | V71: =ROUND(U71,-3) -> 45000 | W71: 53853 | X71: =ROUND(W71,-3) -> 54000 | Y71: 53586 | Z71: =ROUND(Y71,-3) -> 54000 | AA71: 41136 | AB71: =ROUND(AA71,-3) -> 41000 | AD71: =ROUND(AC71,-3) -> 0 | AE71: 26059
A72: 460Lタンク | B72: 2 | C72: ガス給湯器(都市ガス) | F72: =ROUND(E72,-3) -> 0 | H72: =ROUND(G72,-3) -> 0 | J72: =ROUND(I72,-3) -> 0 | L72: =ROUND(K72,-3) -> 0 | N72: =ROUND(M72,-3) -> 0 | P72: =ROUND(O72,-3) -> 0 | R72: =ROUND(Q72,-3) -> 0 | T72: =ROUND(S72,-3) -> 0 | V72: =ROUND(U72,-3) -> 0 | X72: =ROUND(W72,-3) -> 0 | Z72: =ROUND(Y72,-3) -> 0 | AB72: =ROUND(AA72,-3) -> 0 | AD72: =ROUND(AC72,-3) -> 0
A73: 460L | B73: 3 | C73: ガス給湯器(ＬＰガス) | F73: =ROUND(E73,-3) -> 0 | H73: =ROUND(G73,-3) -> 0 | J73: =ROUND(I73,-3) -> 0 | L73: =ROUND(K73,-3) -> 0 | N73: =ROUND(M73,-3) -> 0 | P73: =ROUND(O73,-3) -> 0 | R73: =ROUND(Q73,-3) -> 0 | T73: =ROUND(S73,-3) -> 0 | V73: =ROUND(U73,-3) -> 0 | X73: =ROUND(W73,-3) -> 0 | Z73: =ROUND(Y73,-3) -> 0 | AB73: =ROUND(AA73,-3) -> 0 | AD73: =ROUND(AC73,-3) -> 0
B74: 4 | C74: エコジョーズ(都市ガス) | F74: =ROUND(E74,-3) -> 0 | H74: =ROUND(G74,-3) -> 0 | J74: =ROUND(I74,-3) -> 0 | L74: =ROUND(K74,-3) -> 0 | N74: =ROUND(M74,-3) -> 0 | P74: =ROUND(O74,-3) -> 0 | R74: =ROUND(Q74,-3) -> 0 | T74: =ROUND(S74,-3) -> 0 | V74: =ROUND(U74,-3) -> 0 | X74: =ROUND(W74,-3) -> 0 | Z74: =ROUND(Y74,-3) -> 0 | AB74: =ROUND(AA74,-3) -> 0 | AD74: =ROUND(AC74,-3) -> 0
B75: 5 | C75: エコジョーズ(ＬＰガス) | F75: =ROUND(E75,-3) -> 0 | H75: =ROUND(G75,-3) -> 0 | J75: =ROUND(I75,-3) -> 0 | L75: =ROUND(K75,-3) -> 0 | N75: =ROUND(M75,-3) -> 0 | P75: =ROUND(O75,-3) -> 0 | R75: =ROUND(Q75,-3) -> 0 | T75: =ROUND(S75,-3) -> 0 | V75: =ROUND(U75,-3) -> 0 | X75: =ROUND(W75,-3) -> 0 | Z75: =ROUND(Y75,-3) -> 0 | AB75: =ROUND(AA75,-3) -> 0 | AD75: =ROUND(AC75,-3) -> 0
A76: 6人 | B76: 1 | C76: エコキュートＰシリーズ | E76: 108640 | F76: =ROUND(E76,-3) -> 109000 | G76: 89147 | H76: =ROUND(G76,-3) -> 89000 | I76: 96826 | J76: =ROUND(I76,-3) -> 97000 | K76: 74433 | L76: =ROUND(K76,-3) -> 74000 | N76: =ROUND(M76,-3) -> 0 | O76: 73933 | P76: =ROUND(O76,-3) -> 74000 | Q76: 71825 | R76: =ROUND(Q76,-3) -> 72000 | T76: =ROUND(S76,-3) -> 0 | U76: 59585 | V76: =ROUND(U76,-3) -> 60000 | W76: 72164 | X76: =ROUND(W76,-3) -> 72000 | Y76: 72049 | Z76: =ROUND(Y76,-3) -> 72000 | AA76: 56511 | AB76: =ROUND(AA76,-3) -> 57000 | AD76: =ROUND(AC76,-3) -> 0
A77: 550Lタンク | B77: 2 | C77: ガス給湯器(都市ガス) | F77: =ROUND(E77,-3) -> 0 | H77: =ROUND(G77,-3) -> 0 | J77: =ROUND(I77,-3) -> 0 | L77: =ROUND(K77,-3) -> 0 | N77: =ROUND(M77,-3) -> 0 | P77: =ROUND(O77,-3) -> 0 | R77: =ROUND(Q77,-3) -> 0 | T77: =ROUND(S77,-3) -> 0 | V77: =ROUND(U77,-3) -> 0 | X77: =ROUND(W77,-3) -> 0 | Z77: =ROUND(Y77,-3) -> 0 | AB77: =ROUND(AA77,-3) -> 0 | AD77: =ROUND(AC77,-3) -> 0
A78: 460L | B78: 3 | C78: ガス給湯器(ＬＰガス) | F78: =ROUND(E78,-3) -> 0 | H78: =ROUND(G78,-3) -> 0 | J78: =ROUND(I78,-3) -> 0 | L78: =ROUND(K78,-3) -> 0 | N78: =ROUND(M78,-3) -> 0 | P78: =ROUND(O78,-3) -> 0 | R78: =ROUND(Q78,-3) -> 0 | T78: =ROUND(S78,-3) -> 0 | V78: =ROUND(U78,-3) -> 0 | X78: =ROUND(W78,-3) -> 0 | Z78: =ROUND(Y78,-3) -> 0 | AB78: =ROUND(AA78,-3) -> 0 | AD78: =ROUND(AC78,-3) -> 0
B79: 4 | C79: エコジョーズ(都市ガス) | F79: =ROUND(E79,-3) -> 0 | H79: =ROUND(G79,-3) -> 0 | J79: =ROUND(I79,-3) -> 0 | L79: =ROUND(K79,-3) -> 0 | N79: =ROUND(M79,-3) -> 0 | P79: =ROUND(O79,-3) -> 0 | R79: =ROUND(Q79,-3) -> 0 | T79: =ROUND(S79,-3) -> 0 | V79: =ROUND(U79,-3) -> 0 | X79: =ROUND(W79,-3) -> 0 | Z79: =ROUND(Y79,-3) -> 0 | AB79: =ROUND(AA79,-3) -> 0 | AD79: =ROUND(AC79,-3) -> 0
B80: 5 | C80: エコジョーズ(ＬＰガス) | F80: =ROUND(E80,-3) -> 0 | H80: =ROUND(G80,-3) -> 0 | J80: =ROUND(I80,-3) -> 0 | L80: =ROUND(K80,-3) -> 0 | N80: =ROUND(M80,-3) -> 0 | P80: =ROUND(O80,-3) -> 0 | R80: =ROUND(Q80,-3) -> 0 | T80: =ROUND(S80,-3) -> 0 | V80: =ROUND(U80,-3) -> 0 | X80: =ROUND(W80,-3) -> 0 | Z80: =ROUND(Y80,-3) -> 0 | AB80: =ROUND(AA80,-3) -> 0 | AD80: =ROUND(AC80,-3) -> 0
A81: 7人 | B81: 1 | C81: エコキュートＰシリーズ | E81: 119772 | F81: =ROUND(E81,-3) -> 120000 | G81: 98218 | H81: =ROUND(G81,-3) -> 98000 | I81: 106664 | J81: =ROUND(I81,-3) -> 107000 | K81: 82076 | L81: =ROUND(K81,-3) -> 82000 | N81: =ROUND(M81,-3) -> 0 | O81: 81610 | P81: =ROUND(O81,-3) -> 82000 | Q81: 79303 | R81: =ROUND(Q81,-3) -> 79000 | T81: =ROUND(S81,-3) -> 0 | U81: 65727 | V81: =ROUND(U81,-3) -> 66000 | W81: 79680 | X81: =ROUND(W81,-3) -> 80000 | Y81: 79633 | Z81: =ROUND(Y81,-3) -> 80000 | AA81: 62359 | AB81: =ROUND(AA81,-3) -> 62000 | AD81: =ROUND(AC81,-3) -> 0
A82: 550Lタンク | B82: 2 | C82: ガス給湯器(都市ガス) | F82: =ROUND(E82,-3) -> 0 | H82: =ROUND(G82,-3) -> 0 | J82: =ROUND(I82,-3) -> 0 | L82: =ROUND(K82,-3) -> 0 | N82: =ROUND(M82,-3) -> 0 | P82: =ROUND(O82,-3) -> 0 | R82: =ROUND(Q82,-3) -> 0 | T82: =ROUND(S82,-3) -> 0 | V82: =ROUND(U82,-3) -> 0 | X82: =ROUND(W82,-3) -> 0 | Z82: =ROUND(Y82,-3) -> 0 | AB82: =ROUND(AA82,-3) -> 0 | AD82: =ROUND(AC82,-3) -> 0
A83: 460L | B83: 3 | C83: ガス給湯器(ＬＰガス) | F83: =ROUND(E83,-3) -> 0 | H83: =ROUND(G83,-3) -> 0 | J83: =ROUND(I83,-3) -> 0 | L83: =ROUND(K83,-3) -> 0 | N83: =ROUND(M83,-3) -> 0 | P83: =ROUND(O83,-3) -> 0 | R83: =ROUND(Q83,-3) -> 0 | T83: =ROUND(S83,-3) -> 0 | V83: =ROUND(U83,-3) -> 0 | X83: =ROUND(W83,-3) -> 0 | Z83: =ROUND(Y83,-3) -> 0 | AB83: =ROUND(AA83,-3) -> 0 | AD83: =ROUND(AC83,-3) -> 0
B84: 4 | C84: エコジョーズ(都市ガス) | F84: =ROUND(E84,-3) -> 0 | H84: =ROUND(G84,-3) -> 0 | J84: =ROUND(I84,-3) -> 0 | L84: =ROUND(K84,-3) -> 0 | N84: =ROUND(M84,-3) -> 0 | P84: =ROUND(O84,-3) -> 0 | R84: =ROUND(Q84,-3) -> 0 | T84: =ROUND(S84,-3) -> 0 | V84: =ROUND(U84,-3) -> 0 | X84: =ROUND(W84,-3) -> 0 | Z84: =ROUND(Y84,-3) -> 0 | AB84: =ROUND(AA84,-3) -> 0 | AD84: =ROUND(AC84,-3) -> 0
B85: 5 | C85: エコジョーズ(ＬＰガス) | F85: =ROUND(E85,-3) -> 0 | H85: =ROUND(G85,-3) -> 0 | J85: =ROUND(I85,-3) -> 0 | L85: =ROUND(K85,-3) -> 0 | N85: =ROUND(M85,-3) -> 0 | P85: =ROUND(O85,-3) -> 0 | R85: =ROUND(Q85,-3) -> 0 | T85: =ROUND(S85,-3) -> 0 | V85: =ROUND(U85,-3) -> 0 | X85: =ROUND(W85,-3) -> 0 | Z85: =ROUND(Y85,-3) -> 0 | AB85: =ROUND(AA85,-3) -> 0 | AD85: =ROUND(AC85,-3) -> 0

Sheet 試算条件
A1: ■簡易熱源比較注釈一覧
A2: （EJ料金有り） | D2: 寒冷地 | G2: 寒冷地 | J2: 寒冷地
A3: 家族人数 | B3: 容量 | C3: 北海道（寒冷地） | D3: 東北（寒冷地） | E3: 東北（一般地） | F3: 北陸 | G3: 関東（寒冷地） | H3: 関東（一般地） | I3: 中部（一般地） | J3: 中部（寒冷地） | K3: 関西 | L3: 中国 | M3: 四国 | N3: 九州 | O3: 沖縄
C4: ［試算条件］JIS C 9220を札幌エリア（寒冷地）の給水・外気温度に基づいて換算し、1日あたりの給湯使用量を2人世帯：約320L（40℃）と想定し、下記条件にて試算。 エコキュートはSRT-SK377UDで試算。電気料金は2025年1月時点の北海道電力の「エネとくスマートプラン」の数値を使用（契約容量10kVA）。 都市ガス料金は北海道ガス（2025年1月調査）の数値を使用。基本料金1,454.2円、単価190.83円/㎥、単位発熱量45MJ/㎥で算出。 LPガス料金は一般財団 法人日本エネルギー経済研究所 石油情報センター（2025年1月調査）を使用。基本料金2,217円、単価813.2円/㎥、単位発熱量100.5MJ/㎥で算出（使用量50㎥の料金で試算しています。）ランニングコストの目安は、季節や地域、運転モードの設定、ご利用状況、電力契約等により異なります。 | D4: ［試算条件］JIS C 9220を仙台エリア（寒冷地）の給水・外気温度に基づいて換算し、1日あたりの給湯使用量を2人世帯：約320L（40℃）と想定し、下記条件にて試算。 エコキュートはSRT-SK377UDで試算。電気料金は2025年1月時点の東北電力の「よりそう＋スマートタイム」の数値を使用（契約容量10kVA）。 都市ガス料金は仙台市ガス局（2025年1月調査）の数値を使用。基本料金770円、単価193.18円/㎥、単位発熱量45MJ/㎥で算出。 LPガス料金は一般財団 法人日本エネルギー経済研究所 石油情報センター（2025年1月調査）を使用。基本料金2,018円、単価728.7円/㎥、単位発熱量100.5MJ/㎥で算出（使用量50㎥の料金で試算しています。）ランニングコストの目安は、季節や地域、運転モードの設定、ご利用状況、電力契約等により異なります。 | E4: ［試算条件］JIS C 9220を仙台エリア（一般地）の給水・外気温度に基づいて換算し、1日あたりの給湯使用量を2人世帯：約320L（40℃）と想定し、下記条件にて試算。 エコキュートはSRT-P377UBで試算。電気料金は2025年1月時点の東北電力の「よりそう＋スマートタイム」の数値を使用（契約容量10kVA）。 都市ガス料金は仙台市ガス局（2025年1月調査）の数値を使用。基本料金770円、単価193.18円/㎥、単位発熱量45MJ/㎥で算出。 LPガス料金は一般財団 法人日本エネルギー経済研究所 石油情報センター（2025年1月調査）を使用。基本料金2,018円、単価728.7円/㎥、単位発熱量100.5MJ/㎥で算出（使用量50㎥の料金で試算しています。）ランニングコストの目安は、季節や地域、運転モードの設定、ご利用状況、電力契約等により異なります。 | F4: ［試算条件］JIS C 9220を金沢エリア（標準地）の給水・外気温度に基づいて換算し、1日あたりの給湯使用量を2人 世帯：約320L（40℃）と想定し、下記条件にて試算。 エコキュートはSRT-P377UBで試算。電気料金は2025年1月時点の北陸電力の「くつろぎナイト12」の数値を使用（契約容量10kVA）。 都市ガス料金は日本海ガス（2025年1月調査）の数値を使用。基本料金1,593.46円、単価227.12円/㎥、単位発熱量46MJ/㎥ で算出。 LPガス 料金は一般財団法人日本エネルギー経済研究所 石油情報センター（2025年1月調査）を使用。基本料金2,034円、単 価679.4円/㎥、単位発熱量100.5MJ/㎥で算出（使用量50㎥の料金で試算しています。）ランニングコストの目安は、 季節や地域、運転モードの設定、ご利用状況、電力契約等により異なります。 | H4: ［試算条件］JIS C 9220を東京エリア（標準地）の給水・外気温度に基づいて換算し、1日あたりの給湯使用量を2人世帯：約320L（40℃）と想定し、下記条件にて試算。 エコキュートはSRT-P377UBで試算。電気料金は2025年1月時点の東京電力エナジーパートナーの「スマートライフL」の数値を使用（契約容量10kVA）。 都市ガス料金は東京ガス（2025年1月調査）の数値を使用。基本料金1,056円、単価161.55円/㎥、単位発熱量45MJ/㎥ で算出。 LPガス料金は一般財団法人日本エネルギー経済研究所 石油情報センター（2025年1月調査）を使用。基本料金1,899円、単価628.6円/㎥、単位発熱量100.5MJ/㎥で算出（使用量50㎥の料金で試算しています。）ランニングコストの目安は、季節や地域、運転モードの設定、ご利用状況、電力契約等により異なります。 | I4: ［試算条件］JIS C 9220を名古屋エリア（標準地）の給水・外気温度に基づいて換算し、1日あたりの給湯使用量を2人世帯：約320L（40℃）と想定し、下記条件にて試算。 エコキュートはSRT-P377UBで試算。電気料金は2025年1月時点の中部電力ミライズの「スマートライフプラン」の数値を使用（契約容量10kVA）。 都市ガス料金は東邦ガス（2025年1月調査）の数値を使用。基本料金1,588.88円、単価177.04円/㎥、単位発熱量45MJ/㎥で算出。 LPガス料金は一般財団法人日本エネルギー経済研究所 石油情報センター（2025年1月調査）を使用。基本料金1,973円、単価638.4円/㎥、単位発熱量100.5MJ/㎥で算出（使用量50㎥の料金で試算しています。）ランニングコストの目安は、季節や地域、運転モードの設定、ご利用状況、電力契約等により異なります。 | K4: ［試算条件］JIS C 9220を大阪エリア（標準地）の給水・外気温度に基づいて換算し、1日あたりの給湯使用量を2人世帯：約320L（40℃）と想定し、下記条件にて試算。 エコキュートはSRT-P377UBで試算。電気料金は2025年1月時点の関西電力の「はぴeタイムR」の数値を使用（契約容量10kVA）。 都市ガス料金は大阪ガス（2025年1月調査）の数値を使用。基本料金1,364.8円、単価169.73円/㎥、単位発熱量45MJ/㎥で算出。 LPガス料金は一般財団法人日本エネルギー経済研究所 石油情報センター（2025年1月調査）を使用。基本料金1,993円、単価621.5円/ ㎥、単位発熱量100.5MJ/㎥で算出（使用量50㎥の料金で試算しています。）ランニングコストの目安は、季節や地域、運転モードの設定、ご利用状況、電力契約等により異なります。 | L4: ［試算条件］JIS C 9220を広島エリア（標準地）の給水・外気温度に基づいて換算し、1日あたりの給湯使用量を2人世帯：約320L（40℃）と想定し、下記条件にて試算。 エコキュートはSRT-P377UBで試算。電気料金は2025年1月時点の中国電力の「電化styleコース」の数値を使用（契約容量10kVA）。 都市ガス料金は広島ガス（2025年1月調査）の数値を使用。基本料金1,342円、単価227.35円/㎥、単位発熱量45MJ/㎥で算出。 LPガス料金は一般財団法人日本エネルギー経済研究所 石油情報センター（2025年1月調査）を使用。基本料金2,093円、単価671.5円/ ㎥、単位発熱量100.5MJ/㎥で算出（使用量50㎥の料金で試算しています。）ランニングコストの目安は、季節や地域、運転モードの設定、ご利用状況、電力契約等により異なります。 | M4: ［試算条件］JIS C 9220を高松エリア（標準地）の給水・外気温度に基づいて換算し、1日あたりの給湯使用量を2人世帯：約320L（40℃）と想定し、下記条件にて試算。 エコキュートはSRT-P377UBで試算。電気料金は2025年1月時点の四国電力の「でんかeプラン」の数値を使用（契約容量10kVA）。 都市ガス料金は四国ガス（2025年1月調査）の数値を使用。基本料金2,817.1円、単価205.04円/㎥、単位発熱量46MJ/㎥で算出。 LPガス料金は一般財団法人日本エネルギー経済研究所 石油情報センター（2025年1月調査）を使用。基本料金2,062円、単価622.5円/ ㎥、単位発熱量100.5MJ/㎥で算出（使用量50㎥の料金で試算しています。）ランニングコストの目安は、季節や地域、運転モードの設定、ご利用状況、電力契約等により異なります。 | N4: ［試算条件］JIS C 9220を福岡エリア（標準地）の給水・外気温度に基づいて換算し、1日あたりの給湯使用量を2人世帯：約320L（40℃）と想定し、下記条件にて試算。 エコキュートはSRT-P377UBで試算。電気料金は2025年1月時点の九州電力の「電化でナイト・セレクト(21・22・23)」の数値を使用（契約容量10kVA）。 都市ガス料金は西部ガス（2025年1月調査）の数値を使用。基本料金1,562円、単価224.03円/㎥、単位発熱量45MJ/㎥で算出。 LPガス料金は一般財団法人日本エネルギー経済研究所 石油情報センター（2025年1月調査）を使用。基本料金1,922円、単価611.3円/㎥、単位発熱量100.5MJ/㎥で算出（使用量50㎥の料金で試算しています。）ランニングコストの目安は、季節や地域、運転モードの設定、ご利用状況、電力契約等により異なります。 | O4: ［試算条件］JIS C 9220を那覇エリア（標準地）の給水・外気温度に基づいて換算し、1日あたりの給湯使用量を2人世帯：約320L（40℃）と想定し、下記条件にて試算。エコキュートはSRT-N377-OK1で試算。電気料金は2025年1月時点の沖縄電力の「Eeホームホリデー」の数値を使用（契約容量10kVA）。 都市ガス料金は沖縄ガス（2025年1月調査）の数値を使用。 基本料金1,442.1円、単価246.17円/㎥、単位発熱量43.5MJ/㎥で算出。 LPガス料金は一般財団 法人日本エネルギー経済研究所 石油情報センター（2025年1月調査）を使用。基本料金1,836円、単価686.2円/㎥、単位発熱量100.5MJ/㎥で算出（使用量50㎥の料金で試算しています。）ランニングコストの目安は、季節や地域、運転モードの設定、ご利用状況、電力契約等により異なります。
A5: 2人
A9: 320L
A11: 370Lタンク
A13: 3人 | C13: ［試算条件］JIS C 9220を札幌エリア（寒冷地）の給水・外気温度に基づいて換算し、1日あたりの給湯使用量を3人世帯：約390L（40℃）と想定し、下記条件にて試算。 エコキュートはSRT-SK377UDで試算。電気料金は2025年1月時点の北海道電力の「エネとくスマートプラン」の数値を使用（契約容量10kVA）。 都市ガス料金は北海道ガス（2025年1月調査）の数値を使用。基本料金1,454.2円、単価190.83円/㎥、単位発熱量45MJ/㎥で算出。 LPガス料金は一般財団 法人日本エネルギー経済研究所 石油情報センター（2025年1月調査）を使用。基本料金2,217円、単価813.2円/㎥、単位発熱量100.5MJ/㎥で算出（使用量50㎥の料金で試算しています。）ランニングコストの目安は、季節や地域、運転モードの設定、ご利用状況、電力契約等により異なります。 | D13: ［試算条件］JIS C 9220を仙台エリア（寒冷地）の給水・外気温度に基づいて換算し、1日あたりの給湯使用量を3人世帯：約390L（40℃）と想定し、下記条件にて試算。 エコキュートはSRT-SK377UDで試算。電気料金は2025年1月時点の東北電力の「よりそう＋スマートタイム」の数値を使用（契約容量10kVA）。 都市ガス料金は仙台市ガス局（2025年1月調査）の数値を使用。基本料金770円、単価193.18円/㎥、単位発熱量45MJ/㎥で算出。 LPガス料金は一般財団 法人日本エネルギー経済研究所 石油情報センター（2025年1月調査）を使用。基本料金2,018円、単価728.7円/㎥、単位発熱量100.5MJ/㎥で算出（使用量50㎥の料金で試算しています。）ランニングコストの目安は、季節や地域、運転モードの設定、ご利用状況、電力契約等により異なります。 | E13: ［試算条件］JIS C 9220を仙台エリア（一般地）の給水・外気温度に基づいて換算し、1日あたりの給湯使用量を3人世帯：約390L（40℃）と想定し、下記条件にて試算。 エコキュートはSRT-P377UBで試算。電気料金は2025年1月時点の東北電力の「よりそう＋スマートタイム」の数値を使用（契約容量10kVA）。 都市ガス料金は仙台市ガス局（2025年1月調査）の数値を使用。基本料金770円、単価193.18円/㎥、単位発熱量45MJ/㎥で算出。 LPガス料金は一般財団 法人日本エネルギー経済研究所 石油情報センター（2025年1月調査）を使用。基本料金2,018円、単価728.7円/㎥、単位発熱量100.5MJ/㎥で算出（使用量50㎥の料金で試算しています。）ランニングコストの目安は、季節や地域、運転モードの設定、ご利用状況、電力契約等により異なります。 | F13: ［試算条件］JIS C 9220を金沢エリア（標準地）の給水・外気温度に基づいて換算し、1日あたりの給湯使用量を3人世帯：約390L（40℃）と想定し、下記条件にて試算。 エコキュートはSRT-P377UBで試算。電気料金は2025年1月時点の北陸電力の「くつろぎナイト12」の数値を使用（契約容量10kVA）。 都市ガス料金は日本海ガス（2025年1月調査）の数値を使用。基本料金1,593.46円、単価227.12円/㎥、単位発熱量46MJ/㎥ で算出。 LPガス 料金は一般財団法人日本エネルギー経済研究所 石油情報センター（2025年1月調査）を使用。基本料金2,034円、単 価679.4円/㎥、単位発熱量100.5MJ/㎥で算出（使用量50㎥の料金で試算しています。）ランニングコストの目安は、 季節や地域、運転モードの設定、ご利用状況、電力契約等により異なります。 | H13: ［試算条件］JIS C 9220を東京エリア（標準地）の給水・外気温度に基づいて換算し、1日あたりの給湯使用量を3人世帯：約390L（40℃）と想定し、下記条件にて試算。 エコキュートはSRT-P377UBで試算。電気料金は2025年1月時点の東京電力エナジーパートナーの「スマートライフL」の数値を使用（契約容量10kVA）。 都市ガス料金は東京ガス（2025年1月調査）の数値を使用。基本料金1,056円、単価161.55円/㎥、単位発熱量45MJ/㎥で算出。 LPガス料金は一般財団法人日本エネルギー経済研究所 石油情報センター（2025年1月調査）を使用。基本料金1,899円、単価628.6円/㎥、単位発熱量100.5MJ/㎥で算出（使用量50㎥の料金で試算しています。）ランニングコストの目安は、季節や地域、運転モードの設定、ご利用状況、電力契約等により異なります。 | I13: ［試算条件］JIS C 9220を名古屋エリア（標準地）の給水・外気温度に基づいて換算し、1日あたりの給湯使用量を3人世帯：約390L（40℃）と想定し、下記条件にて試算。エコキュートはSRT-P377UBで試算。電気料金は2025年1月時点の中部電力ミライズの「スマートライフプラン」の数値を使用（契約容量10kVA）。 都市ガス料金は東邦ガス（2025年1月調査）の数値を使用。基本料金1,588.88円、単価177.04円/㎥、単位発熱量45MJ/㎥ で算出。 LPガス料金は一般財団法人日本エネルギー経済研究所 石油情報センター（2025年1月調査）を使用。基本料金1,973円、単価638.4円/㎥、単位発熱量100.5MJ/㎥で算出（使用量50㎥の料金で試算しています。）ランニングコストの目安は、季節や地域、運転モードの設定、ご利用状況、電力契約等により異なります。 | K13: ［試算条件］JIS C 9220を大阪エリア（標準地）の給水・外気温度に基づいて換算し、1日あたりの給湯使用量を3人世帯：約390L（40℃）と想定し、下記条件にて試算。 エコキュートはSRT-P377UBで試算。電気料金は2025年1月時点の関西電力の「はぴeタイムR」の数値を使用（契約容量10kVA）。 都市ガス料金は大阪ガス（2025年1月調査）の数値を使用。基本料金1,364.8円、単価169.73円/㎥、単位発熱量45MJ/㎥で算出。 LPガス料金は一般財団法人日本エネルギー経済研究所 石油情報センター（2025年1月調査）を使用。基本料金1,993円、単価621.5円/ ㎥、単位発熱量100.5MJ/㎥で算出（使用量50㎥の料金で試算しています。）ランニングコストの目安は、季節や地域、運転モードの設定、ご利用状況、電力契約等により異なります。 | L13: ［試算条件］JIS C 9220を広島エリア（標準地）の給水・外気温度に基づいて換算し、1日あたりの給湯使用量を3人世帯：約390L（40℃）と想定し、下記条件にて試算。 エコキュートはSRT-P377UBで試算。電気料金は2025年1月時点の中国電力の「電化styleコース」の数値を使用（契約容量10kVA）。 都市ガス料金は広島ガス（2025年1月調査）の数値を使用。基本料金1,342円、単価227.35円/㎥、単位発熱量45MJ/㎥で算出。 LPガス料金は一般財団法人日本エネルギー経済研究所 石油情報センター（2025年1月調査）を使用。基本料金2,093円、単価671.5円/ ㎥、単位発熱量100.5MJ/㎥で算出（使用量50㎥の料金で試算しています。）ランニングコストの目安は、季節や地域、運転モードの設定、ご利用状況、電力契約等により異なります。 | M13: ［試算条件］JIS C 9220を高松エリア（標準地）の給水・外気温度に基づいて換算し、1日あたりの給湯使用量を3人世帯：約390L（40℃）と想定し、下記条件にて試算。 エコキュートはSRT-P377UBで試算。電気料金は2025年1月時点の四国電力の「でんかeプラン」の数値を使用（契約容量10kVA）。 都市ガス料金は四国ガス（2025年1月調査）の数値を使用。基本料金2,817.1円、単価205.04円/㎥、単位発熱量46MJ/㎥で算出。 LPガス料金は一般財団法人日本エネルギー経済研究所 石油情報センター（2025年1月調査）を使用。基本料金2,062円、単価622.5円/ ㎥、単位発熱量100.5MJ/㎥で算出（使用量50㎥の料金で試算しています。）ランニングコストの目安は、季節や地域、運転モードの設定、ご利用状況、電力契約等により異なります。 | N13: ［試算条件］JIS C 9220を福岡エリア（標準地）の給水・外気温度に基づいて換算し、1日あたりの給湯使用量を3人世帯：約390L（40℃）と想定し、下記条件にて試算。 エコキュートはSRT-P377UBで試算。電気料金は2025年1月時点の九州電力の「電化でナイト・セレクト(21・22・23)」の数値を使用（契約容量10kVA）。 都市ガス料金は西部ガス（2025年1月調査）の数値を使用。基本料金1,562円、単価224.03円/㎥、単位発熱量45MJ/㎥で算出。 LPガス料金は一般財団法人日本エネルギー経済研究所 石油情報センター（2025年1月調査）を使用。基本料金1,922円、単価611.3円/㎥、単位発熱量100.5MJ/㎥で算出（使用量50㎥の料金で試算しています。）ランニングコストの目安は、季節や地域、運転モードの設定、ご利用状況、電力契約等により異なります。 | O13: ［試算条件］JIS C 9220を那覇エリア（標準地）の給水・外気温度に基づいて換算し、1日あたりの給湯使用量を3人世帯：約390L（40℃）と想定し、下記条件にて試算。エコキュートはSRT-N377-OK1で試算。電気料金は2025年1月時点の沖縄電力の「Eeホームホリデー」の数値を使用（契約容量10kVA）。 都市ガス料金は沖縄ガス（2025年1月調査）の数値を使用。 基本料金1,442.1円、単価246.17円/㎥、単位発熱量43.5MJ/㎥で算出。 LPガス料金は一般財団 法人日本エネルギー経済研究所 石油情報センター（2025年1月調査）を使用。基本料金1,836円、単価686.2円/㎥、単位発熱量100.5MJ/㎥で算出（使用量50㎥の料金で試算しています。）ランニングコストの目安は、季節や地域、運転モードの設定、ご利用状況、電力契約等により異なります。
A17: 390L
A19: 370Lタンク
A22: 4人 | C22: ［試算条件］JIS C 9220を札幌エリア（寒冷地）の給水・外気温度に基づいて換算し、1日あたりの給湯使用量を4人世帯：約460L（40℃）と想定し、下記条件にて試算。 エコキュートはSRT-SK377UDで試算。電気料金は2025年1月時点の北海道電力の「エネとくスマートプラン」の数値を使用（契約容量10kVA）。 都市ガス料金は北海道ガス（2025年1月調査）の数値を使用。基本料金1,454.2円、単価190.83円/㎥、単位発熱量45MJ/㎥で算出。 LPガス料金・灯油料金は一般財団 法人日本エネルギー経済研究所 石油情報センター（2025年1月調査）を使用。LPガスの基本料金は2,217円、単価813.2円/㎥、単位発熱量100.5MJ/㎥で算出（使用量50㎥の料金で試算しています。）、灯油価格は単価122.06円/L（配達価格）、単位発熱量36.7MJ/Lで試算しています。ランニングコストの目安は、季節や地域、運転モードの設定、ご利用状況、電力契約等により異なります。 | D22: ［試算条件］JIS C 9220を仙台エリア（寒冷地）の給水・外気温度に基づいて換算し、1日あたりの給湯使用量を4人世帯：約460L（40℃）と想定し、下記条件にて試算。 エコキュートはSRT-SK377UDで試算。電気料金は2025年1月時点の東北電力の「よりそう＋スマートタイム」の数値を使用（契約容量10kVA）。 都市ガス料金は仙台市ガス局（2025年1月調査）の数値を使用。基本料金770円、単価193.18円/㎥、単位発熱量45MJ/㎥で算出。 LPガス料金・灯油料金は一般財団 法人日本エネルギー経済研究所 石油情報センター（2025年1月調査）を使用。LPガスの基本料金2,018円、単価728.7円/㎥、単位発熱量100.5MJ/㎥で算出（使用量50㎥の料金で試算しています。）、灯油価格は単価120.44円/L（配達価格）、単位発熱量36.7MJ/Lで試算しています。ランニングコストの目安は、季節や地域、運転モードの設定、ご利用状況、電力契約等により異なります。 | E22: ［試算条件］JIS C 9220を仙台エリア（一般地）の給水・外気温度に基づいて換算し、1日あたりの給湯使用量を4人世帯：約460L（40℃）と想定し、下記条件にて試算。 エコキュートはSRT-P377UBで試算。電気料金は2025年1月時点の東北電力の「よりそう＋スマートタイム」の数値を使用（契約容量10kVA）。 都市ガス料金は仙台市ガス局（2025年1月調査）の数値を使用。基本料金770円、単価193.18円/㎥、単位発熱量45MJ/㎥で算出。 LPガス料金・灯油料金は一般財団 法人日本エネルギー経済研究所 石油情報センター（2025年1月調査）を使用。LPガスの基本料金2,018円、単価728.7円/㎥、単位発熱量100.5MJ/㎥で算出（使用量50㎥の料金で試算しています。）、灯油価格は単価120.44円/L（配達価格）、単位発熱量36.7MJ/Lで試算しています。ランニングコストの目安は、季節や地域、運転モードの設定、ご利用状況、電力契約等により異なります。 | F22: ［試算条件］JIS C 9220を金沢エリア（標準地）の給水・外気温度に基づいて換算し、1日あたりの給湯使用量を4人世帯：約460L（40℃）と想定し、下記条件にて試算。 エコキュートはSRT-P377UBで試算。電気料金は2025年1月時点の北陸電力の「くつろぎナイト12」の数値を使用（契約容量10kVA）。 都市ガス料金は日本海ガス（2025年1月調査）の数値を使用。基本料金1,593.46円、単価227.12円/㎥、単位発熱量46MJ/㎥で算出。 LPガス料金・灯油料金は一般財団法人日本エネルギー経済研究所 石油情報センター（2025年1月調査）を使用。LPガスの基本料金2,034円、単 価679.4円/㎥、単位発熱量100.5MJ/㎥で算出（使用量50㎥の料金で試算しています。）、灯油価格は単価126円/L（配達価格）、単位発熱量36.7MJ/Lで試算しています。ランニングコストの目安は、 季節や地域、運転モードの設定、ご利用状況、電力契約等により異なります。 | G22: ［試算条件］JIS C 9220を群馬エリア（寒冷地）の給水・外気温度に基づいて換算し、1日あたりの給湯使用量を4人世帯：約460L（40℃）と想定し、下記条件にて試算。 エコキュートはSRT-SK377UDで試算。電気料金は2025年1月時点の東京電力エナジーパートナーの「スマートライフL」の数値を使用（契約容量10kVA）。 都市ガス料金は東京ガス（2025年1月調査）の数値を使用。基本料金1,056円、単価161.55円/㎥、単位発熱量45MJ/㎥で算出。 LPガス料金・灯油料金は一般財団法人日本エネルギー経済研究所 石油情報センター（2025年1月調査）を使用。LPガスの基本料金1,899円、単価628.6円/㎥、単位発熱量100.5MJ/㎥で算出（使用量50㎥の料金で試算しています。）、灯油価格は単価129.28円/L（配達価格）、単位発熱量36.7MJ/Lで試算しています。ランニングコストの目安は、季節や地域、運転モードの設定、ご利用状況、電力契約等により異なります。 | H22: ［試算条件］JIS C 9220を東京エリア（標準地）の給水・外気温度に基づいて換算し、1日あたりの給湯使用量を4人世帯：約460L（40℃）と想定し、下記条件にて試算。 エコキュートはSRT-P377UBで試算。電気料金は2025年1月時点の東京電力エナジーパートナーの「スマートライフL」の数値を使用（契約容量10kVA）。 都市ガス料金は東京ガス（2025年1月調査）の数値を使用。基本料金1,056円、単価161.55円/㎥、単位発熱量45MJ/㎥で算出。 LPガス料金・灯油料金は一般財団法人日本エネルギー経済研究所 石油情報センター（2025年1月調査）を使用。LPガスの基本料金1,899円、単価628.6円/㎥、単位発熱量100.5MJ/㎥で算出（使用量50㎥の料金で試算しています。）、灯油価格は単価129.28円/L（配達価格）、単位発熱量36.7MJ/Lで試算しています。ランニングコストの目安は、季節や地域、運転モードの設定、ご利用状況、電力契約等により異なります。 | I22: ［試算条件］JIS C 9220を名古屋エリア（標準地）の給水・外気温度に基づいて換算し、1日あたりの給湯使用量を4人世帯：約460L（40℃）と想定し、下記条件にて試算。 エコキュートはSRT-P377UBで試算。電気料金は2025年1月時点の中部電力ミライズの「スマートライフプラン」の数値を使用（契約容量10kVA）。 都市ガス料金は東邦ガス（2025年1月調査）の数値を使用。基本料金1,588.88円、単価177.04円/㎥、単位発熱量45MJ/㎥ で算出。 LPガス料金・灯油料金は一般財団法人日本エネルギー経済研究所 石油情報センター（2025年1月調査）を使用。LPガスの基本料金1,973円、単価638.4円/㎥、単位発熱量100.5MJ/㎥で算出（使用量50㎥の料金で試算しています。）、灯油価格は単価126.22円/L（配達価格）、単位発熱量36.7MJ/Lで試算しています。ランニングコストの目安は、季節や地域、運転モードの設定、ご利用状況、電力契約等により異なります。 | K22: ［試算条件］JIS C 9220を大阪エリア（標準地）の給水・外気温度に基づいて換算し、1日あたりの給湯使用量を4人世帯：約460L（40℃）と想定し、下記条件にて試算。エコキュートはSRT-P377UBで試算。電気料金は2025年1月時点の関西電力の「はぴeタイムR」の数値を使用（契約容量10kVA）。 都市ガス料金は大阪ガス（2025年1月調査）の数値を使用。基本料金1,364.8円、単価169.73円/㎥、単位発熱量45MJ/㎥で算出。 LPガス料金・灯油料金は一般財団法人日本エネルギー経済研究所 石油情報センター（2025年1月調査）を使用。LPガスの基本料金1,993円、単価621.5円/ ㎥、単位発熱量100.5MJ/㎥で算出（使用量50㎥の料金で試算しています。）、灯油価格は単価126.11円/L（配達価格）、単位発熱量36.7MJ/Lで試算しています。ランニングコストの目安は、季節や地域、運転モードの設定、ご利用状況、電力契約等により異なります。 | L22: ［試算条件］JIS C 9220を広島エリア（標準地）の給水・外気温度に基づいて換算し、1日あたりの給湯使用量を4人世帯：約460L（40℃）と想定し、下記条件にて試算。エコキュートはSRT-P377UBで試算。電気料金は2025年1月時点の中国電力の「電化styleコース」の数値を使用（契約容量10kVA）。 都市ガス料金は広島ガス（2025年1月調査）の数値を使用。基本料金1,342円、単価227.35円/㎥、単位発熱量45MJ/㎥で算出。 LPガス料金・灯油料金は一般財団法人日本エネルギー経済研究所 石油情報センター（2025年1月調査）を使用。LPガスの基本料金2,093円、単価671.5円/ ㎥、単位発熱量100.5MJ/㎥で算出（使用量50㎥の料金で試算しています。）、灯油価格は単価131.78円/L（配達価格）、単位発熱量36.7MJ/Lで試算しています。ランニングコストの目安は、季節や地域、運転モードの設定、ご利用状況、電力契約等により異なります。 | M22: ［試算条件］JIS C 9220を高松エリア（標準地）の給水・外気温度に基づいて換算し、1日あたりの給湯使用量を4人世帯：約460L（40℃）と想定し、下記条件にて試算。 エコキュートはSRT-P377UBで試算。電気料金は2025年1月時点の四国電力の「でんかeプラン」の数値を使用（契約容量10kVA）。 都市ガス料金は四国ガス（2025年1月調査）の数値を使用。基本料金2,817.1円、単価205.04円/㎥、単位発熱量46MJ/㎥で算出。 LPガス料金・灯油料金は一般財団法人日本エネルギー経済研究所 石油情報センター（2025年1月調査）を使用。LPガスの基本料金2,062円、単価622.5円/ ㎥、単位発熱量100.5MJ/㎥で算出（使用量50㎥の料金で試算しています。）、灯油価格は単価129.11円/L（配達価格）、単位発熱量36.7MJ/Lで試算しています。ランニングコストの目安は、季節や地域、運転モードの設定、ご利用状況、電力契約等により異なります。 | N22: ［試算条件］JIS C 9220を福岡エリア（標準地）の給水・外気温度に基づいて換算し、1日あたりの給湯使用量を4人世帯：約460L（40℃）と想定し、下記条件にて試算。エコキュートはSRT-P377UBで試算。電気料金は2025年1月時点の九州電力の「電化でナイト・セレクト(21・22・23)」の数値を使用（契約容量10kVA）。 都市ガス料金は西部ガス（2025年1月調査）の数値を使用。基本料金1,562円、単価224.03円/㎥、単位発熱量45MJ/㎥で算出。 LPガス料金・灯油料金は一般財団法人日本エネルギー経済研究所 石油情報センター（2025年1月調査）を使用。LPガスの基本料金1,922円、単価611.3円/㎥、単価単位発熱量100.5MJ/㎥で算出（使用量50㎥の料金で試算しています。）、灯油価格は128.44円/L（配達価格）、単位発熱量36.7MJ/Lで試算しています。ランニングコストの目安は、季節や地域、運転モードの設定、ご利用状況、電力契約等により異なります。 | O22: ［試算条件］JIS C 9220を那覇エリア（標準地）の給水・外気温度に基づいて換算し、1日あたりの給湯使用量を4人世帯：約460L（40℃）と想定し、下記条件にて試算。 エコキュートはSRT-N377-OK1で試算。電気料金は2025年1月時点の沖縄電力の「Eeホームホリデー」の数値を使用（契約容量10kVA）。 都市ガス料金は沖縄ガス（2025年1月調査）の数値を使用。 基本料金1,442.1円、単価246.17円/㎥、単位発熱量43.5MJ/㎥で算出。 LPガス料金・灯油料金は一般財団 法人日本エネルギー経済研究所 石油情報センター（2025年1月調査）を使用。LPガスの基本料金1,836円、単価686.2円/㎥、単位発熱量100.5MJ/㎥で算出（使用量50㎥の料金で試算しています。）、灯油価格は単価143.22円/L（配達価格）、単位発熱量36.7MJ/Lで試算しています。ランニングコストの目安は、季節や地域、運転モードの設定、ご利用状況、電力契約等により異なります。
A26: 460L
A28: 370Lタンク
A31: 4人 | B31: 370L | C31: ［試算条件］JIS C 9220を札幌エリア（寒冷地）の給水・外気温度に基づいて換算し、1日あたりの給湯使用量を4人世帯：約460L（40℃）と想定し、下記条件にて試算。エコキュートはSRT-SK377UD、SRT-VK377D、過去機種はSRT-SK37UBで試算。電気料金は2025年1月時点の北海道電力の「エネとくスマートプラン」の数値を使用（契約容量10kVA）。 都市ガス料金は北海道ガス（2025年1月調査）の数値を使用。基本料金1,454.2円、単価190.83円/㎥、単位発熱量45MJ/㎥で算出。 LPガス料金は一般財団 法人日本エネルギー経済研究所 石油情報センター（2025年1月調査）を使用。基本料金2,217円、単価813.2円/㎥、単位発熱量100.5MJ/㎥で算出（使用量50㎥の料金で試算しています。）ランニングコストの目安は、季節や地域、運転モードの設定、ご利用状況、電力契約等により異なります。 | D31: ［試算条件］JIS C 9220を仙台エリア（寒冷地）の給水・外気温度に基づいて換算し、1日あたりの給湯使用量を4人世帯：約460L（40℃）と想定し、下記条件にて試算。エコキュートはSRT-SK377UD、SRT-VK377D、過去機種はSRT-SK37UBで試算。電気料金は2025年1月時点の東北電力の「よりそう＋スマートタイム」の数値を使用（契約容量10kVA）。 都市ガス料金は仙台市ガス局（2025年1月調査）の数値を使用。基本料金770円、単価193.18円/㎥、単位発熱量45MJ/㎥で算出。 LPガス料金は一般財団 法人日本エネルギー経済研究所 石油情報センター（2025年1月調査）を使用。基本料金2,018円、単価728.7円/㎥、単位発熱量100.5MJ/㎥で算出（使用量50㎥の料金で試算しています。）ランニングコストの目安は、季節や地域、運転モードの設定、ご利用状況、電力契約等により異なります。 | E31: ［試算条件］JIS C 9220を仙台エリア（一般地）の給水・外気温度に基づいて換算し、1日あたりの給湯使用量を4人世帯：約460L（40℃）と想定し、下記条件にて試算。エコキュートはSRT-S377U、SRT-V377、過去機種はSRT-P37UBで試算。電気料金は2025年1月時点の東北電力の「よりそう＋スマートタイム」の数値を使用（契約容量10kVA）。 都市ガス料金は仙台市ガス局（2025年1月調査）の数値を使用。基本料金770円、単価193.18円/㎥、単位発熱量45MJ/㎥で算出。 LPガス料金は一般財団 法人日本エネルギー経済研究所 石油情報センター（2025年1月調査）を使用。基本料金2,018円、単価728.7円/㎥、単位発熱量100.5MJ/㎥で算出（使用量50㎥の料金で試算しています。）ランニングコストの目安は、季節や地域、運転モードの設定、ご利用状況、電力契約等により異なります。 | F31: ［試算条件］JIS C 9220を金沢エリア（標準地）の給水・外気温度に基づいて換算し、1日あたりの給湯使用量を4人世帯：約460L（40℃）と想定し、下記条件にて試算。エコキュートはSRT-S377U、SRT-V377、過去機種はSRT-P37UBで試算。電気料金は2025年1月時点の北陸電力の「くつろぎナイト12」の数値を使用（契約容量10kVA）。 都市ガス料金は日本海ガス（2025年1月調査）の数値を使用。基本料金1,593.46円、単価227.12円/㎥、単位発熱量46MJ/㎥で算出。 LPガス 料金は一般財団法人日本エネルギー経済研究所 石油情報センター（2025年1月調査）を使用。基本料金2,034円、単 価679.4円/㎥、単位発熱量100.5MJ/㎥で算出（使用量50㎥の料金で試算しています。）ランニングコストの目安は、 季節や地域、運転モードの設定、ご利用状況、電力契約等により異なります。 | G31: ［試算条件］JIS C 9220を群馬エリア（寒冷地）の給水・外気温度に基づいて換算し、1日あたりの給湯使用量を4人世帯：約460L（40℃）と想定し、下記条件にて試算。エコキュートはSRT-SK377UD、SRT-VK377D、過去機種はSRT-SK37UBで試算。電気料金は2025年1月時点の東京電力エナジーパートナーの「スマートライフL」の数値を使用（契約容量10kVA）。 都市ガス料金は東京ガス（2025年1月調査）の数値を使用。基本料金1,056円、単価161.55円/㎥、単位発熱量45MJ/㎥で算出。 LPガス料金は一般財団法人日本エネルギー経済研究所 石油情報センター（2025年1月調査）を使用。基本料金1,899円、単価628.6円/㎥、単位発熱量100.5MJ/㎥で算出（使用量50㎥の料金で試算しています。）ランニングコストの目安は、季節や地域、運転モードの設定、ご利用状況、電力契約等により異なります。 | H31: ［試算条件］JIS C 9220を東京エリア（標準地）の給水・外気温度に基づいて換算し、1日あたりの給湯使用量を4人世帯：約460L（40℃）と想定し、下記条件にて試算。エコキュートはSRT-S377U、SRT-V377、過去機種はSRT-P37UBで試算。電気料金は2025年1月時点の東京電力エナジーパートナーの「スマートライフL」の数値を使用（契約容量10kVA）。 都市ガス料金は東京ガス（2025年1月調査）の数値を使用。基本料金1,056円、単価161.55円/㎥、単位発熱量45MJ/㎥で算出。 LPガス料金は一般財団法人日本エネルギー経済研究所 石油情報センター（2025年1月調査）を使用。基本料金1,899円、単価628.6円/㎥、単位発熱量100.5MJ/㎥で算出（使用量50㎥の料金で試算しています。）ランニングコストの目安は、季節や地域、運転モードの設定、ご利用状況、電力契約等により異なります。 | I31: ［試算条件］JIS C 9220を名古屋エリア（標準地）の給水・外気温度に基づいて換算し、1日あたりの給湯使用量を4人世帯：約460L（40℃）と想定し、下記条件にて試算。エコキュートはSRT-S377U、SRT-V377、過去機種はSRT-P37UBで試算。電気料金は2025年1月時点の中部電力ミライズの「スマートライフプラン」の数値を使用（契約容量10kVA）。 都市ガス料金は東邦ガス（2025年1月調査）の数値を使用。基本料金1,588.88円、単価177.04円/㎥、単位発熱量45MJ/㎥で算出。 LPガス料金は一般財団法人日本エネルギー経済研究所 石油情報センター（2025年1月調査）を使用。基本料金1,973円、単価638.4円/㎥、単位発熱量100.5MJ/㎥で算出（使用量50㎥の料金で試算しています。）ランニングコストの目安は、季節や地域、運転モードの設定、ご利用状況、電力契約等により異なります。 | J31: ［試算条件］JIS C 9220を長野エリア（寒冷地）の給水・外気温度に基づいて換算し、1日あたりの給湯使用量を4人世帯：約460L（湯温40℃）と想定し、下記条件にて試算。エコキュートはSRT-SK377UD、SRT-VK377D、過去機種はSRT-SK37UBで試算。電気料金は2025年1月時点の中部電力ミライズの「スマートライフプラン」の数値を使用（契約容量10kVA）。 都市ガス料金は東邦ガス（2025年1月調査）の数値を使用。基本料金1,588.88円、単価177.04円/㎥、単位発熱量45MJ/㎥で算出。 LPガス料金・灯油料金は一般財団法人日本エネルギー経済研究所 石油情報センター（2025年1月調査）を使用。LPガスの基本料金1,973円、単価638.4円/㎥、単位発熱量100.5MJ/㎥で算出（使用量50㎥の料金で試算）、灯油価格は単価126.22円/L（配達価格）、単位発熱量36.7MJ/Lで試算。ランニングコストの目安は、季節や地域、運転モードの設定、ご利用状況、電力契約等により異なります。 | K31: ［試算条件］JIS C 9220を大阪エリア（標準地）の給水・外気温度に基づいて換算し、1日あたりの給湯使用量を4人世帯：約460L（40℃）と想定し、下記条件にて試算。エコキュートはSRT-S377U、SRT-V377、過去機種はSRT-P37UBで試算。電気料金は2025年1月時点の関西電力の「はぴeタイムR」の数値を使用（契約容量10kVA）。 都市ガス料金は大阪ガス（2025年1月調査）の数値を使用。基本料金1,364.8円、単価169.73円/㎥、単位発熱量45MJ/㎥で算出。 LPガス料金は一般財団法人日本エネルギー経済研究所 石油情報センター（2025年1月調査）を使用。基本料金1,993円、単価621.5円/ ㎥、単位発熱量100.5MJ/㎥で算出（使用量50㎥の料金で試算しています。）ランニングコストの目安は、季節や地域、運転モードの設定、ご利用状況、電力契約等により異なります。 | L31: ［試算条件］JIS C 9220を広島エリア（標準地）の給水・外気温度に基づいて換算し、1日あたりの給湯使用量を4人世帯：約460L（40℃）と想定し、下記条件にて試算。エコキュートはSRT-S377U、SRT-V377、過去機種はSRT-P37UBで試算。電気料金は2025年1月時点の中国電力の「電化styleコース」の数値を使用（契約容量10kVA）。 都市ガス料金は広島ガス（2025年1月調査）の数値を使用。基本料金1,342円、単価227.35円/㎥、単位発熱量45MJ/㎥で算出。 LPガス料金は一般財団法人日本エネルギー経済研究所 石油情報センター（2025年1月調査）を使用。基本料金2,093円、単価671.5円/ ㎥、単位発熱量100.5MJ/㎥で算出（使用量50㎥の料金で試算しています。）ランニングコストの目安は、季節や地域、運転モードの設定、ご利用状況、電力契約等により異なります。 | M31: ［試算条件］JIS C 9220を高松エリア（標準地）の給水・外気温度に基づいて換算し、1日あたりの給湯使用量を4人世帯：約460L（40℃）と想定し、下記条件にて試算。エコキュートはSRT-S377U、SRT-V377、過去機種はSRT-P37UBで試算。電気料金は2025年1月時点の四国電力の「でんかeプラン」の数値を使用（契約容量10kVA）。 都市ガス料金は四国ガス（2025年1月調査）の数値を使用。基本料金2,817.1円、単価205.04円/㎥、単位発熱量46MJ/㎥で算出。 LPガス料金は一般財団法人日本エネルギー経済研究所 石油情報センター（2025年1月調査）を使用。基本料金2,062円、単価622.5円/ ㎥、単位発熱量100.5MJ/㎥で算出（使用量50㎥の料金で試算しています。）ランニングコストの目安は、季節や地域、運転モードの設定、ご利用状況、電力契約等により異なります。 | N31: ［試算条件］JIS C 9220を福岡エリア（標準地）の給水・外気温度に基づいて換算し、1日あたりの給湯使用量を4人世帯：約460L（40℃）と想定し、下記条件にて試算。エコキュートはSRT-S377U、SRT-V377、過去機種はSRT-P37UBで試算。電気料金は2025年1月時点の九州電力の「電化でナイト・セレクト(21・22・23)」の数値を使用（契約容量10kVA）。 都市ガス料金は西部ガス（2025年1月調査）の数値を使用。基本料金1,562円、単価224.03円/㎥、単位発熱量45MJ/㎥で算出。 LPガス料金は一般財団法人日本エネルギー経済研究所 石油情報センター（2025年1月調査）を使用。基本料金1,922円、単価611.3円/㎥、単位発熱量100.5MJ/㎥で算出（使用量50㎥の料金で試算しています。）ランニングコストの目安は、季節や地域、運転モードの設定、ご利用状況、電力契約等により異なります。 | O31: ［試算条件］JIS C 9220を那覇エリア（標準地）の給水・外気温度に基づいて換算し、1日あたりの給湯使用量を4人世帯：約460L（40℃）と想定し、下記条件にて試算。 エコキュートはSRT-N377-OK1で試算。電気料金は2025年1月時点の沖縄電力の「Eeホームホリデー」の数値を使用（契約容量10kVA）。 都市ガス料金は沖縄ガス（2025年1月調査）の数値を使用。 基本料金1,442.1円、単価246.17円/㎥、単位発熱量43.5MJ/㎥で算出。 LPガス料金は一般財団 法人日本エネルギー経済研究所 石油情報センター（2025年1月調査）を使用。基本料金1,836円、単価686.2円/㎥、単位発熱量100.5MJ/㎥で算出（使用量50㎥の料金で試算しています。）ランニングコストの目安は、季節や地域、運転モードの設定、ご利用状況、電力契約等により異なります。
A32: 5人 | B32: 460L | C32: ［試算条件］JIS C 9220を札幌エリア（寒冷地）の給水・外気温度に基づいて換算し、1日あたりの給湯使用量を5人世帯：約530L（40℃）と想定し、下記条件にて試算。エコキュートはSRT-SK467UD、SRT-VK467D、過去機種はSRT-SK46UBで試算。電気料金は2025年1月時点の北海道電力の「エネとくスマートプラン」の数値を使用（契約容量10kVA）。 都市ガス料金は北海道ガス（2025年1月調査）の数値を使用。基本料金1,454.2円、単価190.83円/㎥、単位発熱量45MJ/㎥で算出。 LPガス料金は一般財団 法人日本エネルギー経済研究所 石油情報センター（2025年1月調査）を使用。基本料金2,217円、単価813.2円/㎥、単位発熱量100.5MJ/㎥で算出（使用量50㎥の料金で試算しています。）ランニングコストの目安は、季節や地域、運転モードの設定、ご利用状況、電力契約等により異なります。 | D32: ［試算条件］JIS C 9220を仙台エリア（寒冷地）の給水・外気温度に基づいて換算し、1日あたりの給湯使用量を5人世帯：約530L（40℃）と想定し、下記条件にて試算。エコキュートはSRT-SK467UD、SRT-VK467D、過去機種はSRT-SK46UBで試算。電気料金は2025年1月時点の東北電力の「よりそう＋スマートタイム」の数値を使用（契約容量10kVA）。 都市ガス料金は仙台市ガス局（2025年1月調査）の数値を使用。基本料金770円、単価193.18円/㎥、単位発熱量45MJ/㎥で算出。 LPガス料金は一般財団 法人日本エネルギー経済研究所 石油情報センター（2025年1月調査）を使用。基本料金2,018円、単価728.7円/㎥、単位発熱量100.5MJ/㎥で算出（使用量50㎥の料金で試算しています。）ランニングコストの目安は、季節や地域、運転モードの設定、ご利用状況、電力契約等により異なります。 | E32: ［試算条件］JIS C 9220を仙台エリア（一般地）の給水・外気温度に基づいて換算し、1日あたりの給湯使用量を5人世帯：約530L（40℃）と想定し、下記条件にて試算。エコキュートはSRT-S467U、SRT-V467、過去機種はSRT-P46UBで試算。電気料金は2025年1月時点の東北電力の「よりそう＋スマートタイム」の数値を使用（契約容量10kVA）。 都市ガス料金は仙台市ガス局（2025年1月調査）の数値を使用。基本料金770円、単価193.18円/㎥、単位発熱量45MJ/㎥で算出。 LPガス料金は一般財団 法人日本エネルギー経済研究所 石油情報センター（2025年1月調査）を使用。基本料金2,018円、単価728.7円/㎥、単位発熱量100.5MJ/㎥で算出（使用量50㎥の料金で試算しています。）ランニングコストの目安は、季節や地域、運転モードの設定、ご利用状況、電力契約等により異なります。 | F32: ［試算条件］JIS C 9220を金沢エリア（標準地）の給水・外気温度に基づいて換算し、1日あたりの給湯使用量を5人世帯：約530L（40℃）と想定し、下記条件にて試算。エコキュートはSRT-S467U、SRT-V467、過去機種はSRT-P46UBで試算。電気料金は2025年1月時点の北陸電力の「くつろぎナイト12」の数値を使用（契約容量10kVA）。 都市ガス料金は日本海ガス（2025年1月調査）の数値を使用。基本料金1,593.46円、単価227.12円/㎥、単位発熱量46MJ/㎥で算出。 LPガス 料金は一般財団法人日本エネルギー経済研究所 石油情報センター（2025年1月調査）を使用。基本料金2,034円、単 価679.4円/㎥、単位発熱量100.5MJ/㎥で算出（使用量50㎥の料金で試算しています。）ランニングコストの目安は、 季節や地域、運転モードの設定、ご利用状況、電力契約等により異なります。 | G32: ［試算条件］JIS C 9220を群馬エリア（寒冷地）の給水・外気温度に基づいて換算し、1日あたりの給湯使用量を5人世帯：約530L（40℃）と想定し、下記条件にて試算。エコキュートはSRT-SK467UD、SRT-VK467D、過去機種はSRT-SK46UBで試算。電気料金は2025年1月時点の東京電力エナジーパートナーの「スマートライフL」の数値を使用（契約容量10kVA）。 都市ガス料金は東京ガス（2025年1月調査）の数値を使用。基本料金1,056円、単価161.55円/㎥、単位発熱量45MJ/㎥で算出。 LPガス料金は一般財団法人日本エネルギー経済研究所 石油情報センター（2025年1月調査）を使用。基本料金1,899円、単価628.6円/㎥、単位発熱量100.5MJ/㎥で算出（使用量50㎥の料金で試算しています。）ランニングコストの目安は、季節や地域、運転モードの設定、ご利用状況、電力契約等により異なります。 | H32: ［試算条件］JIS C 9220を東京エリア（標準地）の給水・外気温度に基づいて換算し、1日あたりの給湯使用量を5人世帯：約530L（40℃）と想定し、下記条件にて試算。エコキュートはSRT-S467U、SRT-V467、過去機種はSRT-P46UBで試算。電気料金は2025年1月時点の東京電力エナジーパートナーの「スマートライフL」の数値を使用（契約容量10kVA）。 都市ガス料金は東京ガス（2025年1月調査）の数値を使用。基本料金1,056円、単価161.55円/㎥、単位発熱量45MJ/㎥で算出。 LPガス料金は一般財団法人日本エネルギー経済研究所 石油情報センター（2025年1月調査）を使用。基本料金1,899円、単価628.6円/㎥、単位発熱量100.5MJ/㎥で算出（使用量50㎥の料金で試算しています。）ランニングコストの目安は、季節や地域、運転モードの設定、ご利用状況、電力契約等により異なります。 | I32: ［試算条件］JIS C 9220を名古屋エリア（標準地）の給水・外気温度に基づいて換算し、1日あたりの給湯使用量を5人世帯：約530L（40℃）と想定し、下記条件にて試算。エコキュートはSRT-S467U、SRT-V467、過去機種はSRT-P46UBで試算。電気料金は2025年1月時点の中部電力ミライズの「スマートライフプラン」の数値を使用（契約容量10kVA）。 都市ガス料金は東邦ガス（2025年1月調査）の数値を使用。基本料金1,588.88円、単価177.04円/㎥、単位発熱量45MJ/㎥で算出。 LPガス料金は一般財団法人日本エネルギー経済研究所 石油情報センター（2025年1月調査）を使用。基本料金1,973円、単価638.4円/㎥、単位発熱量100.5MJ/㎥で算出（使用量50㎥の料金で試算しています。）ランニングコストの目安は、季節や地域、運転モードの設定、ご利用状況、電力契約等により異なります。 | J32: ［試算条件］JIS C 9220を長野エリア（寒冷地）の給水・外気温度に基づいて換算し、1日あたりの給湯使用量を5人世帯：約530L（湯温40℃）と想定し、下記条件にて試算。エコキュートはSRT-SK467UD、SRT-VK467D、過去機種はSRT-SK46UBで試算。電気料金は2025年1月時点の中部電力ミライズの「スマートライフプラン」の数値を使用（契約容量10kVA）。 都市ガス料金は東邦ガス（2025年1月調査）の数値を使用。基本料金1,588.88円、単価177.04円/㎥、単位発熱量45MJ/㎥で算出。 LPガス料金は一般財団法人日本エネルギー経済研究所 石油情報センター（2025年1月調査）を使用。基本料金1,973円、単価638.4円/㎥、単位発熱量100.5MJ/㎥で算出（使用量50㎥の料金で試算しています。）ランニングコストの目安は、季節や地域、運転モードの設定、ご利用状況、電力契約等により異なります。 | K32: ［試算条件］JIS C 9220を大阪エリア（標準地）の給水・外気温度に基づいて換算し、1日あたりの給湯使用量を5人世帯：約530L（40℃）と想定し、下記条件にて試算。 エコキュートはSRT-S467U、SRT-V467、過去機種はSRT-P46UBで試算。電気料金は2025年1月時点の関西電力の「はぴeタイムR」の数値を使用（契約容量10kVA）。 都市ガス料金は大阪ガス（2025年1月調査）の数値を使用。基本料金1,364.8円、単価169.73円/㎥、単位発熱量45MJ/㎥で算出。 LPガス料金は一般財団法人日本エネルギー経済研究所 石油情報センター（2025年1月調査）を使用。基本料金1,993円、単価621.5円/ ㎥、単位発熱量100.5MJ/㎥で算出（使用量50㎥の料金で試算しています。）ランニングコストの目安は、季節や地域、運転モードの設定、ご利用状況、電力契約等により異なります。 | L32: ［試算条件］JIS C 9220を広島エリア（標準地）の給水・外気温度に基づいて換算し、1日あたりの給湯使用量を5人世帯：約530L（40℃）と想定し、下記条件にて試算。エコキュートはSRT-S467U、SRT-V467、過去機種はSRT-P46UBで試算。電気料金は2025年1月時点の中国電力の「電化styleコース」の数値を使用（契約容量10kVA）。 都市ガス料金は広島ガス（2025年1月調査）の数値を使用。基本料金1,342円、単価227.35円/㎥、単位発熱量45MJ/㎥で算出。 LPガス料金は一般財団法人日本エネルギー経済研究所 石油情報センター（2025年1月調査）を使用。基本料金2,093円、単価671.5円/ ㎥、単位発熱量100.5MJ/㎥で算出（使用量50㎥の料金で試算しています。）ランニングコストの目安は、季節や地域、運転モードの設定、ご利用状況、電力契約等により異なります。 | M32: ［試算条件］JIS C 9220を高松エリア（標準地）の給水・外気温度に基づいて換算し、1日あたりの給湯使用量を5人世帯：約530L（40℃）と想定し、下記条件にて試算。エコキュートはSRT-S467U、SRT-V467、過去機種はSRT-P46UBで試算。電気料金は2025年1月時点の四国電力の「でんかeプラン」の数値を使用（契約容量10kVA）。 都市ガス料金は四国ガス（2025年1月調査）の数値を使用。基本料金2,817.1円、単価205.04円/㎥、単位発熱量46MJ/㎥で算出。 LPガス料金は一般財団法人日本エネルギー経済研究所 石油情報センター（2025年1月調査）を使用。基本料金2,062円、単価622.5円/ ㎥、単位発熱量100.5MJ/㎥で算出（使用量50㎥の料金で試算しています。）ランニングコストの目安は、季節や地域、運転モードの設定、ご利用状況、電力契約等により異なります。 | N32: ［試算条件］JIS C 9220を福岡エリア（標準地）の給水・外気温度に基づいて換算し、1日あたりの給湯使用量を5人世帯：約530L（40℃）と想定し、下記条件にて試算。エコキュートはSRT-S467U、SRT-V467、過去機種はSRT-P46UBで試算。電気料金は2025年1月時点の九州電力の「電化でナイト・セレクト(21・22・23)」の数値を使用（契約容量10kVA）。 都市ガス料金は西部ガス（2025年1月調査）の数値を使用。基本料金1,562円、単価224.03円/㎥、単位発熱量45MJ/㎥で算出。 LPガス料金は一般財団法人日本エネルギー経済研究所 石油情報センター（2025年1月調査）を使用。基本料金1,922円、単価611.3円/㎥、単位発熱量100.5MJ/㎥で算出（使用量50㎥の料金で試算しています。）ランニングコストの目安は、季節や地域、運転モードの設定、ご利用状況、電力契約等により異なります。 | O32: ［試算条件］JIS C 9220を那覇エリア（標準地）の給水・外気温度に基づいて換算し、1日あたりの給湯使用量を5人世帯：約530L（40℃）と想定し、下記条件にて試算。 エコキュートはSRT-N467-OK1で試算。電気料金は2025年1月時点の沖縄電力の「Eeホームホリデー」の数値を使用（契約容量10kVA）。 都市ガス料金は沖縄ガス（2025年1月調査）の数値を使用。 基本料金1,442.1円、単価246.17円/㎥、単位発熱量43.5MJ/㎥で算出。 LPガス料金は一般財団 法人日本エネルギー経済研究所 石油情報センター（2025年1月調査）を使用。基本料金1,836円、単価686.2円/㎥、単位発熱量100.5MJ/㎥で算出（使用量50㎥の料金で試算しています。）ランニングコストの目安は、季節や地域、運転モードの設定、ご利用状況、電力契約等により異なります。
A33: 6人 | C33: ［試算条件］JIS C 9220を札幌エリア（寒冷地）の給水・外気温度に基づいて換算し、1日あたりの給湯使用量を6人世帯：約600L（40℃）と想定し、下記条件にて試算。 エコキュートはSRT-SK557UDで試算。電気料金は2025年1月時点の北海道電力の「エネとくスマートプラン」の数値を使用（契約容量10kVA）。 都市ガス料金は北海道ガス（2025年1月調査）の数値を使用。基本料金1,454.2円、単価190.83円/㎥、単位発熱量45MJ/㎥で算出。 LPガス料金は一般財団 法人日本エネルギー経済研究所 石油情報センター（2025年1月調査）を使用。基本料金2,217円、単価813.2円/㎥、単位発熱量100.5MJ/㎥で算出（使用量50㎥の料金で試算しています。）ランニングコストの目安は、季節や地域、運転モードの設定、ご利用状況、電力契約等により異なります。 | D33: ［試算条件］JIS C 9220を仙台エリア（寒冷地）の給水・外気温度に基づいて換算し、1日あたりの給湯使用量を6人世帯：約600L（40℃）と想定し、下記条件にて試算。 エコキュートはSRT-SK557UDで試算。電気料金は2025年1月時点の東北電力の「よりそう＋スマートタイム」の数値を使用（契約容量10kVA）。 都市ガス料金は仙台市ガス局（2025年1月調査）の数値を使用。基本料金770円、単価193.18円/㎥、単位発熱量45MJ/㎥で算出。 LPガス料金は一般財団 法人日本エネルギー経済研究所 石油情報センター（2025年1月調査）を使用。基本料金2,018円、単価728.7円/㎥、単位発熱量100.5MJ/㎥で算出（使用量50㎥の料金で試算しています。）ランニングコストの目安は、季節や地域、運転モードの設定、ご利用状況、電力契約等により異なります。 | E33: ［試算条件］JIS C 9220を仙台エリア（一般地）の給水・外気温度に基づいて換算し、1日あたりの給湯使用量を6人世帯：約600L（40℃）と想定し、下記条件にて試算。 エコキュートはSRT-S557Uで試算。電気料金は2025年1月時点の東北電力の「よりそう＋スマートタイム」の数値を使用（契約容量10kVA）。 都市ガス料金は仙台市ガス局（2025年1月調査）の数値を使用。基本料金770円、単価193.18円/㎥、単位発熱量45MJ/㎥で算出。 LPガス料金は一般財団 法人日本エネルギー経済研究所 石油情報センター（2025年1月調査）を使用。基本料金2,018円、単価728.7円/㎥、単位発熱量100.5MJ/㎥で算出（使用量50㎥の料金で試算しています。）ランニングコストの目安は、季節や地域、運転モードの設定、ご利用状況、電力契約等により異なります。 | F33: ［試算条件］JIS C 9220を金沢エリア（標準地）の給水・外気温度に基づいて換算し、1日あたりの給湯使用量を6人世帯：約600L（40℃）と想定し、下記条件にて試算。 エコキュートはSRT-S557Uで試算。電気料金は2025年1月時点の北陸電力の「くつろぎナイト12」の数値を使用（契約容量10kVA）。 都市ガス料金は日本海ガス（2025年1月調査）の数値を使用。基本料金1,593.46円、単価227.12円/㎥、単位発熱量46MJ/㎥で算出。 LPガス 料金は一般財団法人日本エネルギー経済研究所 石油情報センター（2025年1月調査）を使用。基本料金2,034円、単 価679.4円/㎥、単位発熱量100.5MJ/㎥で算出（使用量50㎥の料金で試算しています。）ランニングコストの目安は、 季節や地域、運転モードの設定、ご利用状況、電力契約等により異なります。 | H33: ［試算条件］JIS C 9220を東京エリア（標準地）の給水・外気温度に基づいて換算し、1日あたりの給湯使用量を6人世帯：約600L（40℃）と想定し、下記条件にて試算。 エコキュートはSRT-S557Uで試算。電気料金は2025年1月時点の東京電力エナジーパートナーの「スマートライフL」の数値を使用（契約容量10kVA）。 都市ガス料金は東京ガス（2025年1月調査）の数値を使用。基本料金1,056円、単価161.55円/㎥、単位発熱量45MJ/㎥で算出。 LPガス料金は一般財団法人日本エネルギー経済研究所 石油情報センター（2025年1月調査）を使用。基本料金1,899円、単価628.6円/㎥、単位発熱量100.5MJ/㎥で算出（使用量50㎥の料金で試算しています。）ランニングコストの目安は、季節や地域、運転モードの設定、ご利用状況、電力契約等により異なります。 | I33: ［試算条件］JIS C 9220を名古屋エリア（標準地）の給水・外気温度に基づいて換算し、1日あたりの給湯使用量を6人世帯：約600L（40℃）と想定し、下記条件にて試算。 エコキュートはSRT-S557Uで試算。電気料金は2025年1月時点の中部電力ミライズの「スマートライフプラン」の数値を使用（契約容量10kVA）。 都市ガス料金は東邦ガス（2025年1月調査）の数値を使用。基本料金1,588.88円、単価177.04円/㎥、単位発熱量45MJ/㎥で算出。 LPガス料金は一般財団法人日本エネルギー経済研究所 石油情報センター（2025年1月調査）を使用。基本料金1,973円、単価638.4円/㎥、単位発熱量100.5MJ/㎥で算出（使用量50㎥の料金で試算しています。）ランニングコストの目安は、季節や地域、運転モードの設定、ご利用状況、電力契約等により異なります。 | K33: ［試算条件］JIS C 9220を大阪エリア（標準地）の給水・外気温度に基づいて換算し、1日あたりの給湯使用量を6人世帯：約600L（40℃）と想定し、下記条件にて試算。 エコキュートはSRT-S557Uで試算。電気料金は2025年1月時点の関西電力の「はぴeタイムR」の数値を使用（契約容量10kVA）。 都市ガス料金は大阪ガス（2025年1月調査）の数値を使用。基本料金1,364.8円、単価169.73円/㎥、単位発熱量45MJ/㎥で算出。 LPガス料金は一般財団法人日本エネルギー経済研究所 石油情報センター（2025年1月調査）を使用。基本料金1,993円、単価621.5円/ ㎥、単位発熱量100.5MJ/㎥で算出（使用量50㎥の料金で試算しています。）ランニングコストの目安は、季節や地域、運転モードの設定、ご利用状況、電力契約等により異なります。 | L33: ［試算条件］JIS C 9220を広島エリア（標準地）の給水・外気温度に基づいて換算し、1日あたりの給湯使用量を6人世帯：約600L（40℃）と想定し、下記条件にて試算。 エコキュートはSRT-S557Uで試算。電気料金は2025年1月時点の中国電力の「電化styleコース」の数値を使用（契約容量10kVA）。 都市ガス料金は広島ガス（2025年1月調査）の数値を使用。基本料金1,342円、単価227.35円/㎥、単位発熱量45MJ/㎥で算出。 LPガス料金は一般財団法人日本エネルギー経済研究所 石油情報センター（2025年1月調査）を使用。基本料金2,093円、単価671.5円/ ㎥、単位発熱量100.5MJ/㎥で算出（使用量50㎥の料金で試算しています。）ランニングコストの目安は、季節や地域、運転モードの設定、ご利用状況、電力契約等により異なります。 | M33: ［試算条件］JIS C 9220を高松エリア（標準地）の給水・外気温度に基づいて換算し、1日あたりの給湯使用量を6人世帯：約600L（40℃）と想定し、下記条件にて試算。 エコキュートはSRT-S557Uで試算。電気料金は2025年1月時点の四国電力の「でんかeプラン」の数値を使用（契約容量10kVA）。 都市ガス料金は四国ガス（2025年1月調査）の数値を使用。基本料金2,817.1円、単価205.04円/㎥、単位発熱量46MJ/㎥で算出。 LPガス料金は一般財団法人日本エネルギー経済研究所 石油情報センター（2025年1月調査）を使用。基本料金2,062円、単価622.5円/ ㎥、単位発熱量100.5MJ/㎥で算出（使用量50㎥の料金で試算しています。）ランニングコストの目安は、季節や地域、運転モードの設定、ご利用状況、電力契約等により異なります。 | N33: ［試算条件］JIS C 9220を福岡エリア（標準地）の給水・外気温度に基づいて換算し、1日あたりの給湯使用量を6人世帯：約600L（40℃）と想定し、下記条件にて試算。 エコキュートはSRT-S557Uで試算。電気料金は2025年1月時点の九州電力の「電化でナイト・セレクト(21・22・23)」の数値を使用（契約容量10kVA）。 都市ガス料金は西部ガス（2025年1月調査）の数値を使用。基本料金1,562円、単価224.03円/㎥、単位発熱量45MJ/㎥で算出。 LPガス料金は一般財団法人日本エネルギー経済研究所 石油情報センター（2025年1月調査）を使用。基本料金1,922円、単価611.3円/㎥、単位発熱量100.5MJ/㎥で算出（使用量50㎥の料金で試算しています。）ランニングコストの目安は、季節や地域、運転モードの設定、ご利用状況、電力契約等により異なります。 | O33: ［試算条件］JIS C 9220を那覇エリア（標準地）の給水・外気温度に基づいて換算し、1日あたりの給湯使用量を6人世帯：約600L（40℃）と想定し、下記条件にて試算。 エコキュートはSRT-N557-OK1で試算。電気料金は2025年1月時点の沖縄電力の「Eeホームホリデー」の数値を使用（契約容量10kVA）。 都市ガス料金は沖縄ガス（2025年1月調査）の数値を使用。 基本料金1,442.1円、単価246.17円/㎥、単位発熱量43.5MJ/㎥で算出。 LPガス料金は一般財団 法人日本エネルギー経済研究所 石油情報センター（2025年1月調査）を使用。基本料金1,836円、単価686.2円/㎥、単位発熱量100.5MJ/㎥で算出（使用量50㎥の料金で試算しています。）ランニングコストの目安は、季節や地域、運転モードの設定、ご利用状況、電力契約等により異なります。
A37: 600L
A39: 550Lタンク
A42: 7人 | C42: ［試算条件］JIS C 9220を札幌エリア（寒冷地）の給水・外気温度に基づいて換算し、1日あたりの給湯使用量を7人世帯：約670L（40℃）と想定し、下記条件にて試算。 エコキュートはSRT-SK557UDで試算。電気料金は2025年1月時点の北海道電力の「エネとくスマートプラン」の数値を使用（契約容量10kVA）。 都市ガス料金は北海道ガス（2025年1月調査）の数値を使用。基本料金1,454.2円、単価190.83円/㎥、単位発熱量45MJ/㎥で算出。 LPガス料金は一般財団 法人日本エネルギー経済研究所 石油情報センター（2025年1月調査）を使用。基本料金2,217円、単価813.2円/㎥、単位発熱量100.5MJ/㎥で算出（使用量50㎥の料金で試算しています。）ランニングコストの目安は、季節や地域、運転モードの設定、ご利用状況、電力契約等により異なります。 | D42: ［試算条件］JIS C 9220を仙台エリア（寒冷地）の給水・外気温度に基づいて換算し、1日あたりの給湯使用量を7人世帯：約670L（40℃）と想定し、下記条件にて試算。 エコキュートはSRT-SK557UDで試算。電気料金は2025年1月時点の東北電力の「よりそう＋スマートタイム」の数値を使用（契約容量10kVA）。 都市ガス料金は仙台市ガス局（2025年1月調査）の数値を使用。基本料金770円、単価193.18円/㎥、単位発熱量45MJ/㎥で算出。 LPガス料金は一般財団 法人日本エネルギー経済研究所 石油情報センター（2025年1月調査）を使用。基本料金2,018円、単価728.7円/㎥、単位発熱量100.5MJ/㎥で算出（使用量50㎥の料金で試算しています。）ランニングコストの目安は、季節や地域、運転モードの設定、ご利用状況、電力契約等により異なります。 | E42: ［試算条件］JIS C 9220を仙台エリア（一般地）の給水・外気温度に基づいて換算し、1日あたりの給湯使用量を7人世帯：約670L（40℃）と想定し、下記条件にて試算。 エコキュートはSRT-S557Uで試算。電気料金は2025年1月時点の東北電力の「よりそう＋スマートタイム」の数値を使用（契約容量10kVA）。 都市ガス料金は仙台市ガス局（2025年1月調査）の数値を使用。基本料金770円、単価193.18円/㎥、単位発熱量45MJ/㎥で算出。 LPガス料金は一般財団 法人日本エネルギー経済研究所 石油情報センター（2025年1月調査）を使用。基本料金2,018円、単価728.7円/㎥、単位発熱量100.5MJ/㎥で算出（使用量50㎥の料金で試算しています。）ランニングコストの目安は、季節や地域、運転モードの設定、ご利用状況、電力契約等により異なります。 | F42: ［試算条件］JIS C 9220を金沢エリア（標準地）の給水・外気温度に基づいて換算し、1日あたりの給湯使用量を7人世帯：約670L（40℃）と想定し、下記条件にて試算。エコキュートはSRT-S557Uで試算。電気料金は2025年1月時点の北陸電力の「くつろぎナイト12」の数値を使用（契約容量10kVA）。 都市ガス料金は日本海ガス（2025年1月調査）の数値を使用。基本料金1,593.46円、単価227.12円/㎥、単位発熱量46MJ/㎥で算出。 LPガス 料金は一般財団法人日本エネルギー経済研究所 石油情報センター（2025年1月調査）を使用。基本料金2,034円、単 価679.4円/㎥、単位発熱量100.5MJ/㎥で算出（使用量50㎥の料金で試算しています。）ランニングコストの目安は、 季節や地域、運転モードの設定、ご利用状況、電力契約等により異なります。 | H42: ［試算条件］JIS C 9220を東京エリア（標準地）の給水・外気温度に基づいて換算し、1日あたりの給湯使用量を7人世帯：約670L（40℃）と想定し、下記条件にて試算。 エコキュートはSRT-S557Uで試算。電気料金は2025年1月時点の東京電力エナジーパートナーの「スマートライフL」の数値を使用（契約容量10kVA）。 都市ガス料金は東京ガス（2025年1月調査）の数値を使用。基本料金1,056円、単価161.55円/㎥、単位発熱量45MJ/㎥で算出。 LPガス料金は一般財団法人日本エネルギー経済研究所 石油情報センター（2025年1月調査）を使用。基本料金1,899円、単価628.6円/㎥、単位発熱量100.5MJ/㎥で算出（使用量50㎥の料金で試算しています。）ランニングコストの目安は、季節や地域、運転モードの設定、ご利用状況、電力契約等により異なります。 | I42: ［試算条件］JIS C 9220を名古屋エリア（標準地）の給水・外気温度に基づいて換算し、1日あたりの給湯使用量を7人世帯：約670L（40℃）と想定し、下記条件にて試算。 エコキュートはSRT-S557Uで試算。電気料金は2025年1月時点の中部電力ミライズの「スマートライフプラン」の数値を使用（契約容量10kVA）。 都市ガス料金は東邦ガス（2025年1月調査）の数値を使用。基本料金1,588.88円、単価177.04円/㎥、単位発熱量45MJ/㎥で算出。 LPガス料金は一般財団法人日本エネルギー経済研究所 石油情報センター（2025年1月調査）を使用。基本料金1,973円、単価638.4円/㎥、単位発熱量100.5MJ/㎥で算出（使用量50㎥の料金で試算しています。）ランニングコストの目安は、季節や地域、運転モードの設定、ご利用状況、電力契約等により異なります。 | K42: ［試算条件］JIS C 9220を大阪エリア（標準地）の給水・外気温度に基づいて換算し、1日あたりの給湯使用量を7人世帯：約670L（40℃）と想定し、下記条件にて試算。 エコキュートはSRT-S557Uで試算。電気料金は2025年1月時点の関西電力の「はぴeタイムR」の数値を使用（契約容量10kVA）。 都市ガス料金は大阪ガス（2025年1月調査）の数値を使用。基本料金1,364.8円、単価169.73円/㎥、単位発熱量45MJ/㎥で算出。 LPガス料金は一般財団法人日本エネルギー経済研究所 石油情報センター（2025年1月調査）を使用。基本料金1,993円、単価621.5円/ ㎥、単位発熱量100.5MJ/㎥で算出（使用量50㎥の料金で試算しています。）ランニングコストの目安は、季節や地域、運転モードの設定、ご利用状況、電力契約等により異なります。 | L42: ［試算条件］JIS C 9220を広島エリア（標準地）の給水・外気温度に基づいて換算し、1日あたりの給湯使用量を7人世帯：約670L（40℃）と想定し、下記条件にて試算。 エコキュートはSRT-S557Uで試算。電気料金は2025年1月時点の中国電力の「電化styleコース」の数値を使用（契約容量10kVA）。 都市ガス料金は広島ガス（2025年1月調査）の数値を使用。基本料金1,342円、単価227.35円/㎥、単位発熱量45MJ/㎥で算出。 LPガス料金は一般財団法人日本エネルギー経済研究所 石油情報センター（2025年1月調査）を使用。基本料金2,093円、単価671.5円/ ㎥、単位発熱量100.5MJ/㎥で算出（使用量50㎥の料金で試算しています。）ランニングコストの目安は、季節や地域、運転モードの設定、ご利用状況、電力契約等により異なります。 | M42: ［試算条件］JIS C 9220を高松エリア（標準地）の給水・外気温度に基づいて換算し、1日あたりの給湯使用量を7人世帯：約670L（40℃）と想定し、下記条件にて試算。 エコキュートはSRT-S557Uで試算。電気料金は2025年1月時点の四国電力の「でんかeプラン」の数値を使用（契約容量10kVA）。 都市ガス料金は四国ガス（2025年1月調査）の数値を使用。基本料金2,817.1円、単価205.04円/㎥、単位発熱量46MJ/㎥で算出。 LPガス料金は一般財団法人日本エネルギー経済研究所 石油情報センター（2025年1月調査）を使用。基本料金2,062円、単価622.5円/ ㎥、単位発熱量100.5MJ/㎥で算出（使用量50㎥の料金で試算しています。）ランニングコストの目安は、季節や地域、運転モードの設定、ご利用状況、電力契約等により異なります。 | N42: ［試算条件］JIS C 9220を福岡エリア（標準地）の給水・外気温度に基づいて換算し、1日あたりの給湯使用量を7人世帯：約670L（40℃）と想定し、下記条件にて試算。 エコキュートはSRT-S557Uで試算。電気料金は2025年1月時点の九州電力の「電化でナイト・セレクト(21・22・23)」の数値を使用（契約容量10kVA）。 都市ガス料金は西部ガス（2025年1月調査）の数値を使用。基本料金1,562円、単価224.03円/㎥、単位発熱量45MJ/㎥で算出。 LPガス料金は一般財団法人日本エネルギー経済研究所 石油情報センター（2025年1月調査）を使用。基本料金1,922円、単価611.3円/㎥、単位発熱量100.5MJ/㎥で算出（使用量50㎥の料金で試算しています。）ランニングコストの目安は、季節や地域、運転モードの設定、ご利用状況、電力契約等により異なります。 | O42: ［試算条件］JIS C 9220を那覇エリア（標準地）の給水・外気温度に基づいて換算し、1日あたりの給湯使用量を7人世帯：約670L（40℃）と想定し、下記条件にて試算。 エコキュートはSRT-N557-OK1で試算。電気料金は2025年1月時点の沖縄電力の「Eeホームホリデー」の数値を使用（契約容量10kVA）。 都市ガス料金は沖縄ガス（2025年1月調査）の数値を使用。 基本料金1,442.1円、単価246.17円/㎥、単位発熱量43.5MJ/㎥で算出。 LPガス料金は一般財団 法人日本エネルギー経済研究所 石油情報センター（2025年1月調査）を使用。基本料金1,836円、単価686.2円/㎥、単位発熱量100.5MJ/㎥で算出（使用量50㎥の料金で試算しています。）ランニングコストの目安は、季節や地域、運転モードの設定、ご利用状況、電力契約等により異なります。
A46: 670L
A48: 550Lタンク
